BEGIN:VCALENDAR
VERSION:2.0
PRODID:-//MOOV.MA - ECPv6.10.1.1//NONSGML v1.0//EN
CALSCALE:GREGORIAN
METHOD:PUBLISH
X-WR-CALNAME:MOOV.MA
X-ORIGINAL-URL:https://moov.ma
X-WR-CALDESC:Évènements pour MOOV.MA
REFRESH-INTERVAL;VALUE=DURATION:PT1H
X-Robots-Tag:noindex
X-PUBLISHED-TTL:PT1H
BEGIN:VTIMEZONE
TZID:Africa/Casablanca
BEGIN:DAYLIGHT
TZOFFSETFROM:+0100
TZOFFSETTO:+0000
TZNAME:+00
DTSTART:20240310T020000
END:DAYLIGHT
BEGIN:STANDARD
TZOFFSETFROM:+0000
TZOFFSETTO:+0100
TZNAME:+01
DTSTART:20240414T020000
END:STANDARD
END:VTIMEZONE
BEGIN:VEVENT
DTSTART;VALUE=DATE:20241117
DTEND;VALUE=DATE:20241119
DTSTAMP:20260421T011222
CREATED:20241031T142720Z
LAST-MODIFIED:20241108T103651Z
UID:10000004-1731805200-1731891599@moov.ma
SUMMARY:10Km DecaRun Ain Sebaa
DESCRIPTION:Le 10KM DecaRun est un événement de course à pied inédit qui vivra sa première édition le 17 novembre 2024. Organisée par Decathlon\, cette course invite les coureurs de tous niveaux à parcourir 10 kilomètres à travers les rues d’Ain Sebaa\, avec un départ prévu à 9h00 depuis Decathlon Ain Sebaa. Cet événement a pour objectif de promouvoir la forme physique et de renforcer l’esprit de communauté\, offrant aux participants l’opportunité de se dépasser dans une atmosphère conviviale et encourageante.
URL:https://moov.ma/course/10km-decarun-ain-sebaa/
LOCATION:Ain Sebaa\, Ain Sebaa\, Casablanca\, Morocco
CATEGORIES:Courses 10km
ATTACH;FMTTYPE=image/jpeg:https://moov.ma/wp-content/uploads/2024/10/decarun.jpg
END:VEVENT
END:VCALENDAR