BEGIN:VCALENDAR
VERSION:2.0
PRODID:-//MOOV.MA - ECPv6.10.1.1//NONSGML v1.0//EN
CALSCALE:GREGORIAN
METHOD:PUBLISH
X-WR-CALNAME:MOOV.MA
X-ORIGINAL-URL:https://moov.ma
X-WR-CALDESC:Évènements pour MOOV.MA
REFRESH-INTERVAL;VALUE=DURATION:PT1H
X-Robots-Tag:noindex
X-PUBLISHED-TTL:PT1H
BEGIN:VTIMEZONE
TZID:Africa/Casablanca
BEGIN:DAYLIGHT
TZOFFSETFROM:+0100
TZOFFSETTO:+0000
TZNAME:+00
DTSTART:20250223T020000
END:DAYLIGHT
BEGIN:STANDARD
TZOFFSETFROM:+0000
TZOFFSETTO:+0100
TZNAME:+01
DTSTART:20250406T020000
END:STANDARD
END:VTIMEZONE
BEGIN:VEVENT
DTSTART;TZID=Africa/Casablanca:20250524T180000
DTEND;TZID=Africa/Casablanca:20250524T180000
DTSTAMP:20260420T091230
CREATED:20250308T110645Z
LAST-MODIFIED:20250308T111131Z
UID:10000042-1748109600-1748109600@moov.ma
SUMMARY:MOROCCO TRAIL RACE "NIGHT EDITION" 2025
DESCRIPTION:L’association Multi Social Challenge est fière d’annoncer la nouvelle édition de la MOROCCO TRAIL RACE « NIGHT EDITION » 2025\, une course unique qui se déroule sous les étoiles\, dans le cadre spectaculaire des Terres d’Amanar\, à seulement 30 minutes de Marrakech. \nUne Expérience de Trail Inédite\nLa MOROCCO TRAIL RACE « NIGHT EDITION » est une épreuve privée\, offrant une aventure immersive en pleine nature. Avec des parcours de 30 km\, 20 km\, 10 km et 5 km\, cette course nocturne propose une expérience inoubliable\, où les coureurs évolueront à la lumière de leurs lampes frontales\, guidés par les sentiers montagneux et les vallées secrètes de l’Atlas. \nUn Cadre Magique et Dépaysant\nLes Terres d’Amanar\, situées aux portes du Haut Atlas\, offrent un terrain de jeu exceptionnel pour les passionnés de trail. Ce site naturel préservé garantit un environnement propice à la performance et à l’émerveillement\, avec des panoramas époustouflants et une vue imprenable sur Marrakech illuminée. \nProgramme de la Journée: SAMEDI 24 MAI 2024\n🕙 10h00 – 15h00 : Retrait des dossards (aucune inscription sur place)\n🔥 18h00 : Départ du Trail 30 km\n🔥 18h30 : Départ du Trail 20 km\n🔥 19h00 : Départ du Trail 10 km\n🔥 19h30 : Départ du Trail 5 km \nUn Engagement pour le Sport et la Nature\nAu-delà du défi sportif\, la MOROCCO TRAIL RACE « NIGHT EDITION » met un point d’honneur à promouvoir des valeurs de respect de l’environnement\, d’inclusion et de solidarité\, en lien avec la mission de l’association Multi Social Challenge. \n📩 Informations & Inscriptions : info@moroccoallraces.com\n🌐 Site web : www.moroccoallraces.com \nRejoignez-nous pour une expérience unique\, où aventure\, sport et nature se rencontrent sous le ciel étoilé du Maroc ! 🌙🏃‍♂️✨ \nInscription
URL:https://moov.ma/course/morocco-trail-race-night-edition/
LOCATION:Terres d’Amanar\, Douar Akli\, Tahannaout\, Marrakech\, 42300
CATEGORIES:Trails
ATTACH;FMTTYPE=image/jpeg:https://moov.ma/wp-content/uploads/2025/03/flyers-mtr2025.jpeg
END:VEVENT
END:VCALENDAR