BEGIN:VCALENDAR
VERSION:2.0
PRODID:-//MOOV.MA - ECPv6.10.1.1//NONSGML v1.0//EN
CALSCALE:GREGORIAN
METHOD:PUBLISH
X-WR-CALNAME:MOOV.MA
X-ORIGINAL-URL:https://moov.ma
X-WR-CALDESC:Évènements pour MOOV.MA
REFRESH-INTERVAL;VALUE=DURATION:PT1H
X-Robots-Tag:noindex
X-PUBLISHED-TTL:PT1H
BEGIN:VTIMEZONE
TZID:Africa/Casablanca
BEGIN:DAYLIGHT
TZOFFSETFROM:+0100
TZOFFSETTO:+0000
TZNAME:+00
DTSTART:20250223T020000
END:DAYLIGHT
BEGIN:STANDARD
TZOFFSETFROM:+0000
TZOFFSETTO:+0100
TZNAME:+01
DTSTART:20250406T020000
END:STANDARD
END:VTIMEZONE
BEGIN:VEVENT
DTSTART;TZID=Africa/Casablanca:20250525T090000
DTEND;TZID=Africa/Casablanca:20250525T090000
DTSTAMP:20260420T091230
CREATED:20250323T122547Z
LAST-MODIFIED:20250323T122647Z
UID:10000051-1748163600-1748163600@moov.ma
SUMMARY:Course Nature Forêt Dar Essalam
DESCRIPTION:
URL:https://moov.ma/course/course-nature-foret-dar-es-salam/
LOCATION:Foret Dar Essalam\, Forêt Dar Es Salam\, Rabat\, Morocco
CATEGORIES:Trails
ATTACH;FMTTYPE=image/jpeg:https://moov.ma/wp-content/uploads/2025/03/daressalam.jpg
END:VEVENT
END:VCALENDAR