BEGIN:VCALENDAR
VERSION:2.0
PRODID:-//MOOV.MA - ECPv6.10.1.1//NONSGML v1.0//EN
CALSCALE:GREGORIAN
METHOD:PUBLISH
X-WR-CALNAME:MOOV.MA
X-ORIGINAL-URL:https://moov.ma
X-WR-CALDESC:Évènements pour MOOV.MA
REFRESH-INTERVAL;VALUE=DURATION:PT1H
X-Robots-Tag:noindex
X-PUBLISHED-TTL:PT1H
BEGIN:VTIMEZONE
TZID:Africa/Casablanca
BEGIN:DAYLIGHT
TZOFFSETFROM:+0100
TZOFFSETTO:+0000
TZNAME:+00
DTSTART:20250223T020000
END:DAYLIGHT
BEGIN:STANDARD
TZOFFSETFROM:+0000
TZOFFSETTO:+0100
TZNAME:+01
DTSTART:20250406T020000
END:STANDARD
END:VTIMEZONE
BEGIN:VEVENT
DTSTART;VALUE=DATE:20251130
DTEND;VALUE=DATE:20251201
DTSTAMP:20260419T200954
CREATED:20241030T152724Z
LAST-MODIFIED:20250726T170422Z
UID:10000001-1764460800-1764547199@moov.ma
SUMMARY:Darb Race
DESCRIPTION:Darb Race offre une occasion unique de courir au bord des plages magnifiques de Dar Bouazza\, en participant à une des courses proposées par l’organisation\, 10km ou 21km. Cette course est organisée le 2ème dimanche de chaque mois de décembre. \nDar Bouazza Race ambitionne de devenir une des plus importantes courses du Maroc. L’objectif est d’accueillir 10.000 participants en 2030. \nCette course\, partie de la plage Oued Merzegue vers les plages de Tamaris en passant par le petit port de Dar Bouazza\, offre un décor incomparable avec des animations musicales tout au long du parcours.. \nLe salon « Darb Race » situé au club O’Darb\, qui précède de 3 jours la course\, est un rendez-vous incontournable avec des professionnels de la course à pied. \nLa seconde édition de Darb Race aura lieu le Dimanche 30 Novembre 2025 à Dar Bouazza. \nInscriptions & informations détaillées sur https://darbevent.com
URL:https://moov.ma/course/darb-race/
LOCATION:Dar Bouazza\, Oued Merzeg\, Dar Bouazza\, Casablanca\, Morocco
CATEGORIES:Courses 10km,Semi-marathons
ATTACH;FMTTYPE=image/jpeg:https://moov.ma/wp-content/uploads/2024/10/darbevent2.jpg
END:VEVENT
END:VCALENDAR