BEGIN:VCALENDAR
VERSION:2.0
PRODID:-//MOOV.MA - ECPv6.10.1.1//NONSGML v1.0//EN
CALSCALE:GREGORIAN
METHOD:PUBLISH
X-WR-CALNAME:MOOV.MA
X-ORIGINAL-URL:https://moov.ma
X-WR-CALDESC:Évènements pour MOOV.MA
REFRESH-INTERVAL;VALUE=DURATION:PT1H
X-Robots-Tag:noindex
X-PUBLISHED-TTL:PT1H
BEGIN:VTIMEZONE
TZID:Africa/Casablanca
BEGIN:DAYLIGHT
TZOFFSETFROM:+0100
TZOFFSETTO:+0000
TZNAME:+00
DTSTART:20240310T020000
END:DAYLIGHT
BEGIN:STANDARD
TZOFFSETFROM:+0000
TZOFFSETTO:+0100
TZNAME:+01
DTSTART:20240414T020000
END:STANDARD
END:VTIMEZONE
BEGIN:VEVENT
DTSTART;VALUE=DATE:20241104
DTEND;VALUE=DATE:20241106
DTSTAMP:20260421T070455
CREATED:20241031T111328Z
LAST-MODIFIED:20241108T091158Z
UID:10000003-1730682000-1730768399@moov.ma
SUMMARY:Eurafrica Trail étape Mdiq-Fnideq 11km
DESCRIPTION:Eurafrica Trail est né en octobre 2014 avec une idée : créer la première course de montagne entre deux continents au monde\, dans le Détroit de Gibraltar. Un objectif à la fois beau et ambitieux\, que nous avons réussi à réaliser après de nombreuses aventures\, avec la première édition intercontinentale de notre course\, achevée le 1er novembre 2016. \nC’est là\, lors de la fête finale dans la Kasbah de Chefchaouen\, que nous avons pris conscience de la véritable signification de notre idée : Eurafrica est notre opportunité de faire l’Histoire\, de créer des souvenirs\, d’unir différentes cultures à travers le sport\, le respect de la nature et la valorisation de notre patrimoine naturel et social. \nPour toutes ces raisons\, Eurafrica Trail n’est pas (seulement) une course\, c’est une expérience complète qui crée des histoires personnelles dans un lieu unique au monde : le Territoire Eurafrica. \nCette cinquième étape marquera la fin de notre édition 2024. Un parcours inédit dans l’environnement du village de pêcheurs de M’Diq\, où nous profiterons de l’accueil chaleureux des habitants de cette localité. Le départ et l’arrivée se feront sur sa célèbre promenade maritime\, en passant par les sentiers et pistes du Cap Noir. \nUne étape rapide et intense\, qui clôturera en beauté le nouvel Eurafrica Trail\, au Maroc et dans le Détroit.
URL:https://moov.ma/course/eurafrica-trail-etape-mdiq-fnideq-11km/
LOCATION:M’diq\, Préfecture de M'Diq\, Morocco
CATEGORIES:Trails
ATTACH;FMTTYPE=image/jpeg:https://moov.ma/wp-content/uploads/2024/10/eurafrica.jpg
GEO:35.6868628;-5.3319738
X-APPLE-STRUCTURED-LOCATION;VALUE=URI;X-ADDRESS=M’diq Préfecture de M'Diq Morocco;X-APPLE-RADIUS=500;X-TITLE=Préfecture de M'Diq:geo:-5.3319738,35.6868628
END:VEVENT
BEGIN:VEVENT
DTSTART;VALUE=DATE:20241109
DTEND;VALUE=DATE:20241110
DTSTAMP:20260421T070455
CREATED:20241031T153022Z
LAST-MODIFIED:20250923T202825Z
UID:10000007-1731110400-1731196799@moov.ma
SUMMARY:Trail Ain Alleliga
DESCRIPTION:Le Trail Ain Alleliga région Benslimane aura lieu le dimanche 17 Novembre 2024 dans la belle nature de notre région riche par leur divers paysages magnifiques assuré par un micro-climat redoutable qui favorisent largement la pratique des sports et loisirs.\nUne journée dans la nature loin de l’autonomie de la ville pour un vide total. \nLes Distances:\n10km Run ou Rando\n24km Run. \nDépart à 9h du matin.\nVous recevrez le dossard\, un très beau T-shirt\, une belle Médaille\, Ravitaillement au cours et à la fin de l’événement\, et animation bien sûr.\nNB: L’inscription est déjà lancé\,\nPas d’inscription sur place. \nLa cotisation est de:\n200dh pour les 10kms.\n250dh pour les 24kms.
URL:https://moov.ma/course/trail-ain-alleliga/
LOCATION:Ain Alleliga\, Ain Alleliga\, Benslimane\, Morocco
CATEGORIES:Trails
ATTACH;FMTTYPE=image/jpeg:https://moov.ma/wp-content/uploads/2024/10/ain-alleliga.jpg
END:VEVENT
BEGIN:VEVENT
DTSTART;VALUE=DATE:20241117
DTEND;VALUE=DATE:20241118
DTSTAMP:20260421T070455
CREATED:20241109T105503Z
LAST-MODIFIED:20241109T110019Z
UID:10000016-1731801600-1731887999@moov.ma
SUMMARY:Trail de la vallée des Ammeln
DESCRIPTION:En célébration de la commémoration de la Marche Verte et de la glorieuse Fête de l’Indépendance\, l’Association Sportive de Oued Anouar Ameln\, en collaboration avec le Conseil communal d’Ameln et avec le soutien de nos partenaires publics et privés\, se prépare à organiser la première édition du « Trail Oued Ameln » le dimanche 17 novembre 2024 dans la commune d’Ameln. \nLes participants aux courses programmées dans le cadre du trail parcourront des distances de 14 et 26 kilomètres\, sur un parcours reliant les différents douars d’Ameln. Ils découvriront ainsi la richesse et la diversité naturelle de la région et profiteront des paysages époustouflants qu’offrent Oued Ameln et la région de Tafraout en général. Cette expérience permettra aux coureurs de vivre un moment unique alliant activité sportive et esprit de saine compétition. \nLes organisateurs de cet événement sportif visent à encourager la pratique sportive\, à promouvoir la région et à positionner Oued Ameln comme une destination touristique exceptionnelle. Ils souhaitent également mettre en lumière le patrimoine naturel et culturel de la région et sensibiliser à l’importance de la préservation de l’environnement. \nLe « Trail Oued Ameln » est une occasion idéale pour découvrir la beauté de la région et participer à ce type de sport. Les personnes souhaitant s’inscrire peuvent le faire via le site officiel https://asvla.org ou en contactant les numéros de téléphone dédiés à cet effet.
URL:https://moov.ma/course/trail-de-la-vallee-des-ammeln/
LOCATION:Ammelne\, Ammelne\, Ammelne\, Morocco
CATEGORIES:Trails
ATTACH;FMTTYPE=image/jpeg:https://moov.ma/wp-content/uploads/2024/11/ammelne.jpg
END:VEVENT
BEGIN:VEVENT
DTSTART;VALUE=DATE:20241117
DTEND;VALUE=DATE:20241119
DTSTAMP:20260421T070455
CREATED:20241031T142720Z
LAST-MODIFIED:20241108T103651Z
UID:10000004-1731805200-1731891599@moov.ma
SUMMARY:10Km DecaRun Ain Sebaa
DESCRIPTION:Le 10KM DecaRun est un événement de course à pied inédit qui vivra sa première édition le 17 novembre 2024. Organisée par Decathlon\, cette course invite les coureurs de tous niveaux à parcourir 10 kilomètres à travers les rues d’Ain Sebaa\, avec un départ prévu à 9h00 depuis Decathlon Ain Sebaa. Cet événement a pour objectif de promouvoir la forme physique et de renforcer l’esprit de communauté\, offrant aux participants l’opportunité de se dépasser dans une atmosphère conviviale et encourageante.
URL:https://moov.ma/course/10km-decarun-ain-sebaa/
LOCATION:Ain Sebaa\, Ain Sebaa\, Casablanca\, Morocco
CATEGORIES:Courses 10km
ATTACH;FMTTYPE=image/jpeg:https://moov.ma/wp-content/uploads/2024/10/decarun.jpg
END:VEVENT
BEGIN:VEVENT
DTSTART;VALUE=DATE:20241123
DTEND;VALUE=DATE:20241124
DTSTAMP:20260421T070455
CREATED:20241112T103139Z
LAST-MODIFIED:20241112T103337Z
UID:10000017-1732320000-1732406399@moov.ma
SUMMARY:10km des Olives de Guercif
DESCRIPTION:المرجو الاتصال بالارقام التالية من اجل اي توجيه اواستفسار 0672471080 / 0672470848
URL:https://moov.ma/course/10km-des-olives-de-guercif/
LOCATION:Guercif\, Place du 6 Novembre\, Guercif\, Morocco
CATEGORIES:Courses 10km
ATTACH;FMTTYPE=image/jpeg:https://moov.ma/wp-content/uploads/2024/11/guercif.jpg
END:VEVENT
BEGIN:VEVENT
DTSTART;VALUE=DATE:20241124
DTEND;VALUE=DATE:20241125
DTSTAMP:20260421T070455
CREATED:20241121T085920Z
LAST-MODIFIED:20241121T090002Z
UID:10000021-1732406400-1732492799@moov.ma
SUMMARY:aFI's Marathon
DESCRIPTION:L’Association des Futurs Ingénieurs organise la première édition du « 🏃‍♂️ Marathon de l’AFI 🏃‍♀️ »\, en collaboration avec l’Union des Jeunes Athlètes Atlas Martil et sous la supervision de la Direction Provinciale de l’Éducation et de l’Enseignement de M’diq\, ainsi que la Ligue de l’Athlétisme de la Région Tanger-Tétouan-Al Hoceïma. Cet événement se déroulera à Martil le 24 novembre\, en célébration de l’anniversaire de la Marche Verte 🇲🇦 et de la Fête de l’Indépendance. \nObjectifs de l’événement\nCe marathon vise à sensibiliser les jeunes à l’importance du sport 🏋️‍♀️ et à son rôle dans leur vie quotidienne\, tout en contribuant à la lutte contre le phénomène de l’immigration clandestine 🌍. \nUn total de 600 participants prendra part à cet événement\, répartis entre 300 élèves de la Direction Provinciale et 300 coureurs de l’Association des Ingénieurs de Demain. \nFrais de participation et récompenses\n\nFrais de participation : 50 dirhams.\nLes trois premiers finalistes (hommes et femmes) recevront des récompenses :\n\n🥇 1er prix : 2000 dirhams.\n🥈 2e prix : 1000 dirhams.\n🥉 3e prix : 500 dirhams.\n\n\n\nL’événement sera marqué par la présence de personnalités importantes de notre communauté ainsi que par une couverture médiatique assurée par plusieurs plateformes 📸. \n\nProgramme du marathon 🗓️\n• 08:00 – 08:30\n🔹 Accueil des participants et ouverture des portes.\n🔹 Confirmation des inscriptions et distribution des tickets. \n• 08:30 – 08:45\n🎤 Conférence d’ouverture : \n\nPrésentation des règles de sécurité.\nAllocution du comité d’organisation.\nEncouragements et conseils aux participants (discours de la présidente\, chef de projet\, etc.).\n\n• 09:00\n🚦 Départ officiel du marathon. \n• 09:00 – 11:00\n🏃‍♀️ Course en continu.\n🥤 Postes de ravitaillement tout au long du parcours\, avec distribution d’eau et assistance par les membres des comités. \n• 10:30 – 11:00\n🏁 Arrivée des premiers participants à la ligne d’arrivée.\n⏱️ Clôture officielle du marathon à 11:00. \n• 11:00 – 11:30\n🎉 Cérémonie de clôture : \n\nDistribution des prix et cadeaux souvenirs.\nDiscours de remerciement.\nCélébration avec les participants et le public.\n\n\nModalités d’inscription\nPour garantir votre participation à cet événement sportif unique : \n\nInscrivez-vous via ce lien 👉 https://forms.gle/ButAf6pwCghxxhqn8\nOu scannez le code QR pour vous inscrire directement via votre téléphone.\n\nPaiement des frais d’inscription\n💳 Vous pouvez régler les frais via :\n🔹 Achat du billet dans les points de vente qui seront annoncés prochainement.\n🔹 Achat du billet sur place\, le jour de l’événement\, avant le départ du marathon. \n\nDépêchez-vous de réserver vos places et devenez acteur de cet événement exceptionnel ! ⏳
URL:https://moov.ma/course/afis-marathon/
LOCATION:Martil\, Martil\, Martil\, Morocco
CATEGORIES:Courses 10km
ATTACH;FMTTYPE=image/jpeg:https://moov.ma/wp-content/uploads/2024/11/466974633_909267824103978_7168053251845942456_n.jpeg
END:VEVENT
BEGIN:VEVENT
DTSTART;VALUE=DATE:20241124
DTEND;VALUE=DATE:20241125
DTSTAMP:20260421T070455
CREATED:20241113T081421Z
LAST-MODIFIED:20241113T091354Z
UID:10000018-1732406400-1732492799@moov.ma
SUMMARY:Blue Coaching Race
DESCRIPTION:Course amicale et familiale avec 4 distances adultes\, puis petit déjeuner\, puis 2 distances enfants dans le Crazy Park de Dar Bouazza\nInfos et inscriptions au 0660255540
URL:https://moov.ma/course/blue-coaching-race/
LOCATION:Crazy Park\, Crazy Park\, Dar Bouazza\, Casablanca\, Morocco
CATEGORIES:Courses 10km,Semi-marathons
ATTACH;FMTTYPE=image/jpeg:https://moov.ma/wp-content/uploads/2024/11/bluecoaching.jpg
ORGANIZER;CN="Blue Coaching":MAILTO:bluecoachingbyalilazraq@gmail.com
END:VEVENT
BEGIN:VEVENT
DTSTART;VALUE=DATE:20241208
DTEND;VALUE=DATE:20241209
DTSTAMP:20260421T070455
CREATED:20241121T090719Z
LAST-MODIFIED:20241205T205632Z
UID:10000022-1733616000-1733702399@moov.ma
SUMMARY:Trail Fnideq - 15KM
DESCRIPTION:Rejoignez-nous le 8 décembre 2024 dans la ville de Fnideq pour une expérience sportive incroyable au milieu de la nature ! _Nouveau parcours :_– 15 km– 600 mètres de dénivelé positif _Heure de départ :_ 9h00 _Frais d’inscription :_ 100 dirhams _Comprend :_– Médaille à l’arrivée– T-shirt de la course– Eau et nutrition pendant et après la course– Photos professionnelles pendant l’événement– Activités récréatives– Musique DJ– Commentaires en direct pour ajouter plus d’excitation ! _Ne manquez pas cette opportunité incroyable\, inscrivez-vous maintenant et profitez d’un nouveau défi et d’une expérience unique !_ _Pour plus d’informations :_ @ultra.trails.north.morocco_Pour une inscription directe :_+212 765-177310 _Soyez au rendez-vous et découvrez la beauté des sentiers de montagne dans le nord du Maroc !_ \nCet événement exceptionnel rassemble les passionnés de course en montagne et les amoureux de la nature du monde entier pour profiter de paysages époustouflants et de défis palpitants.
URL:https://moov.ma/course/trail-fnideq-15km/
LOCATION:Fnideq\, Foret de Fnideq\, Fnideq\, Morocco
CATEGORIES:Trails
ATTACH;FMTTYPE=image/jpeg:https://moov.ma/wp-content/uploads/2024/11/467412608_475340428343992_2257531735404167883_n.jpeg
END:VEVENT
BEGIN:VEVENT
DTSTART;VALUE=DATE:20241208
DTEND;VALUE=DATE:20241210
DTSTAMP:20260421T070455
CREATED:20241031T083155Z
LAST-MODIFIED:20241108T092228Z
UID:10000002-1733619600-1733705999@moov.ma
SUMMARY:Trail les Amandiers Tafraout
DESCRIPTION:Nous sommes ravis de vous annoncer l’organisation de la 3ème édition du Trail des Amandiers à Tafraout\, un événement sportif exceptionnel qui aura lieu le 8 décembre 2024 ! Cette édition est organisée par l’Association Souss Triathlon\, en partenariat avec la Commune de Tafraout. Ce trail\, qui combine endurance\, nature et dépassement de soi\, accueillera la présence de nos invités d’honneur\, les athlètes de renom Hassan Aazaoui et Aziza Elamrani. Préparez-vous pour une journée inoubliable au cœur des magnifiques paysages de Tafraout. Soyez nombreux à participer ou à encourager !
URL:https://moov.ma/course/trail-les-amandiers-tafraout/
LOCATION:Tafraout\, Tafraoute\, Tafraoute\, Morocco
CATEGORIES:Trails
ATTACH;FMTTYPE=image/jpeg:https://moov.ma/wp-content/uploads/2024/10/trail-tafraout.jpg
END:VEVENT
BEGIN:VEVENT
DTSTART;VALUE=DATE:20241215
DTEND;VALUE=DATE:20241216
DTSTAMP:20260421T070455
CREATED:20241205T211330Z
LAST-MODIFIED:20241205T211416Z
UID:10000033-1734220800-1734307199@moov.ma
SUMMARY:10KM LIBERTY RACE SETTAT
DESCRIPTION:Préparez-vous à enfiler vos chaussures de course et à fouler le bitume pour une course palpitante de 10 km ! Que vous soyez un coureur expérimenté ou que vous débutiez\, cet événement est parfait pour tout le monde. Relevez le défi et ressentez l’adrénaline en franchissant la ligne d’arrivée. Ne manquez pas cette occasion de vous dépasser et de passer un bon moment avec d’autres coureurs. Rejoignez-nous pour la 1ère édition de la « 10km Liberty Race ». Rendez-vous sur la ligne de départ !
URL:https://moov.ma/course/10km-liberty-race/
LOCATION:Liberty Gym\, X9WC+777\, Settat\, Morocco
CATEGORIES:Courses 10km
ATTACH;FMTTYPE=image/jpeg:https://moov.ma/wp-content/uploads/2024/12/settat.jpg
END:VEVENT
BEGIN:VEVENT
DTSTART;TZID=Africa/Casablanca:20241215T080000
DTEND;TZID=Africa/Casablanca:20241215T150000
DTSTAMP:20260421T070455
CREATED:20241124T195815Z
LAST-MODIFIED:20241125T092204Z
UID:10000027-1734249600-1734274800@moov.ma
SUMMARY:ADRAR MTB ECO TRAIL
DESCRIPTION:ADRAR MTB organise la 2eme édition de l’ ECO TRAIL 2024 dans le site des rochers peints dans la région de Tafraoute le 15 Décembre 2024 à partir de 09h pour disputer deux chalenge de 25 et 50 KM. \n05 Sites Touristiques\n04 Villages\nPiste\, Hors piste et Sentiers\nMontées et descentes \nProgramme\n8H00 – 9H00 : Inscription\, retrait des dossards et plaques de trail\n8H00 – 9H00 : Accueil des participants / Petit déjeuner\n8H30 : Briefing (consignes de sécurité\, règles à respecter\, Conseils\, infos.)\n10H00 : Départ de la course\n12H00 – 13H00 : Première arrivées estimées\n14H00 – 15H00 : Cérémonie des officielle/Remise des trophées et prix\nShow time avec la démonstration de Aurélien FONTENOY
URL:https://moov.ma/course/adrar-mtb-eco-trail/
LOCATION:Tafraout\, Tafraoute\, Tafraoute\, Morocco
CATEGORIES:Trails
ATTACH;FMTTYPE=image/jpeg:https://moov.ma/wp-content/uploads/2024/11/mtb.jpg
ORGANIZER;CN="ASC ADRAR MTB":MAILTO:adrarmtb.morocco@gmail.com
END:VEVENT
END:VCALENDAR