BEGIN:VCALENDAR
VERSION:2.0
PRODID:-//MOOV.MA - ECPv6.10.1.1//NONSGML v1.0//EN
CALSCALE:GREGORIAN
METHOD:PUBLISH
X-WR-CALNAME:MOOV.MA
X-ORIGINAL-URL:https://moov.ma
X-WR-CALDESC:Évènements pour MOOV.MA
REFRESH-INTERVAL;VALUE=DURATION:PT1H
X-Robots-Tag:noindex
X-PUBLISHED-TTL:PT1H
BEGIN:VTIMEZONE
TZID:Africa/Casablanca
BEGIN:DAYLIGHT
TZOFFSETFROM:+0100
TZOFFSETTO:+0000
TZNAME:+00
DTSTART:20240310T020000
END:DAYLIGHT
BEGIN:STANDARD
TZOFFSETFROM:+0000
TZOFFSETTO:+0100
TZNAME:+01
DTSTART:20240414T020000
END:STANDARD
BEGIN:DAYLIGHT
TZOFFSETFROM:+0100
TZOFFSETTO:+0000
TZNAME:+00
DTSTART:20250223T020000
END:DAYLIGHT
BEGIN:STANDARD
TZOFFSETFROM:+0000
TZOFFSETTO:+0100
TZNAME:+01
DTSTART:20250406T020000
END:STANDARD
END:VTIMEZONE
BEGIN:VEVENT
DTSTART;VALUE=DATE:20241229
DTEND;VALUE=DATE:20241230
DTSTAMP:20260421T000545
CREATED:20241108T093055Z
LAST-MODIFIED:20241117T125932Z
UID:10000010-1735430400-1735516799@moov.ma
SUMMARY:7ème édition du Morocco Trail Ait Ben Haddou
DESCRIPTION:Ne ratez pas l’événement de trail le plus excitant de l’année ! La 7ème édition du Morocco Trail Ait Ben Haddou vous attend avec des parcours épiques\, des paysages à couper le souffle et une ambiance incomparable. Que vous soyez un coureur débutant ou un traileur chevronné\, cette course est conçue pour vous défier et vous faire vivre des moments inoubliables. Rejoignez-nous et faites partie de cette aventure incroyable\, où vous repousserez vos limites\, rencontrerez d’autres passionnés de trail et créerez des souvenirs qui dureront toute une vie. Inscrivez-vous dès maintenant et préparez-vous à vivre une expérience unique et inoubliable lors de la 7ème édition du Morocco Trail Ait Ben Haddou ! \nTrail court 10 Km\nRelevez le défi du Trail Court de 10 km lors du Morocco Trail Ait Ben Haddou et découvrez une expérience de course palpitante dans un cadre spectaculaire. Que vous soyez un coureur débutant à la recherche d’une première aventure trail ou un traileur chevronné cherchant un parcours rapide et stimulant\, ce trail est conçu pour vous pousser au-delà de vos limites. \nTrail long 30 Km\nPréparez-vous à une aventure épique sur le Trail Long de 30 km lors du Morocco Trail Ait Ben Haddou. Ce parcours vous emmènera à travers des sentiers diversifiés\, des montagnes majestueuses aux vallées sereines. Que vous soyez un traileur aguerri ou à la recherche d’un défi intermédiaire\, ce trail vous fera vivre une expérience inoubliable.
URL:https://moov.ma/course/7eme-edition-du-morocco-trail-ait-ben-haddou/
LOCATION:Ait Ben Haddou\, Ait Ben Haddou\, Ouarzazate\, Morocco
CATEGORIES:Trails
ATTACH;FMTTYPE=image/jpeg:https://moov.ma/wp-content/uploads/2024/11/ait-ben.jpeg
END:VEVENT
BEGIN:VEVENT
DTSTART;VALUE=DATE:20250105
DTEND;VALUE=DATE:20250106
DTSTAMP:20260421T000545
CREATED:20241121T102720Z
LAST-MODIFIED:20241121T102755Z
UID:10000024-1736035200-1736121599@moov.ma
SUMMARY:Semi-Marathon De Tamesna - 7ème édition
DESCRIPTION:
URL:https://moov.ma/course/semi-marathon-de-tamesna-7eme-edition/
LOCATION:Tamesna\, Mohammed V\, Tamesna\, Morocco
CATEGORIES:Courses 10km,Semi-marathons
ATTACH;FMTTYPE=image/jpeg:https://moov.ma/wp-content/uploads/2024/11/416376819_874474358015711_4444562634834960358_n.jpg
END:VEVENT
BEGIN:VEVENT
DTSTART;TZID=Africa/Casablanca:20250111T200000
DTEND;TZID=Africa/Casablanca:20250111T200000
DTSTAMP:20260421T000545
CREATED:20251029T155322Z
LAST-MODIFIED:20251029T192042Z
UID:10000084-1736625600-1736625600@moov.ma
SUMMARY:Les Courses Noctures - 5km
DESCRIPTION:Rendez-vous le 1er novembre à Casablanca pour un 5 km inédit au cœur des Habous.Une course\, une marche\, une émotion ! 🌙Courez le soir pour le plaisir\, ou marchez sous la belle étoile pour une cause : soutenir les enfants atteints de leucémie avec l’association Noujoum. \nÉvénement organisé par Ça Marche\, le premier journal de sport féminin au Maroc\, avec le soutien de plusieurs partenaires engagés. \nParticipez à la course au profit des enfants atteints de leucémie\, aux Habous\, avec Ça Marche. Chaque kilomètre soutient un combat. Chaque énergie partagée leur donne une chance de plus. \nOù acheter vos tickets ? \n\nBe Sport Morocco Mall\nBe Sport Anfa Place\nCity Sport Zerktouni\nCity Sport Casa-Port\nCity Sport Morocco Mall\nPikala Shop Romandie A\nJeem – Rue Essanaani
URL:https://moov.ma/course/les-courses-noctures-5km/
LOCATION:Casablanca\, Casablanca\, Casablanca\, Morocco
CATEGORIES:Courses 10km
ATTACH;FMTTYPE=image/jpeg:https://moov.ma/wp-content/uploads/2025/10/5km.jpg
END:VEVENT
BEGIN:VEVENT
DTSTART;VALUE=DATE:20250112
DTEND;VALUE=DATE:20250113
DTSTAMP:20260421T000545
CREATED:20241031T154133Z
LAST-MODIFIED:20241205T213436Z
UID:10000008-1736640000-1736726399@moov.ma
SUMMARY:Semi-Marathon Vert de Benslimane
DESCRIPTION:Le Semi-Marathon Vert de Benslimane aura lieu le 12 Décembre 2024 dans les beaux paysages de notre région riche par leurs divers paysages magnifiques assuré par un Micro-climat redoutable qui favorise largement la pratique du sport et du loisirs.Un circuit magnifique qui traverse la belle forêt et les montées splendide sur le circuit du Semi Marathon.Deux distances au programme:21km Run (semi marathon).10km RUN ou Rando.Départ à 9h du matin.Circuit 100% Forêt.Race Timer.Pas d’inscription sur place.Vous recevrez le Dossard\, un très beau T-shirt\, une belle Médaille\, Ravitaillement au cours et au finish et DJ Animation bien sûr.association Achourouk est toujours au rendez-vous.
URL:https://moov.ma/course/semi-marathon-vert-de-benslimane/
LOCATION:Foret de Benslimane\, Foret de Benslimane\, Benslimane\, Morocco
CATEGORIES:Semi-marathons
ATTACH;FMTTYPE=image/jpeg:https://moov.ma/wp-content/uploads/2024/10/trail-benslimane.jpg
END:VEVENT
BEGIN:VEVENT
DTSTART;VALUE=DATE:20250112
DTEND;VALUE=DATE:20250113
DTSTAMP:20260421T000545
CREATED:20241121T103224Z
LAST-MODIFIED:20241121T103526Z
UID:10000025-1736640000-1736726399@moov.ma
SUMMARY:Course 10 km Dcheira
DESCRIPTION:
URL:https://moov.ma/course/course-10-km-dcheira/
LOCATION:Dcheira\, Avenue Faissal Ben Abdelaziz\, Dcheira\, 80000\, Morocco
CATEGORIES:Courses 10km
ATTACH;FMTTYPE=image/webp:https://moov.ma/wp-content/uploads/2024/11/ap86fwr6gwld9g4wgdmoknowq0f3-e1732185281606.webp
END:VEVENT
BEGIN:VEVENT
DTSTART;VALUE=DATE:20250126
DTEND;VALUE=DATE:20250127
DTSTAMP:20260421T000545
CREATED:20241108T101949Z
LAST-MODIFIED:20241108T102344Z
UID:10000011-1737849600-1737935999@moov.ma
SUMMARY:Marathon International de Marrakech 2025
DESCRIPTION:Sous le Haut Patronage de sa Majesté le Roi Mohammed VI\, le Marathon International de Marrakech annonce sa 36ème édition le Dimanche 26 Janvier 2025. Plus de 14 000 coureurs des quatre coins du globe\, seront au rendez-vous pour participer à l’un des plus prestigieux marathons du monde. \nL’endémique ville de Marrakech offre un cadre exceptionnel\, un climat souvent clément en plein mois de janvier et un beau circuit considéré parmi les plus rapides des marathons internationaux\, le long des allées de palmiers\, d’orangers et d’oliviers\, mais aussi des remparts de la ville. \n 
URL:https://moov.ma/course/marathon-international-de-marrakech-2025/
LOCATION:Marrakech\, Marrakech\, Morocco
CATEGORIES:Marathons
ATTACH;FMTTYPE=image/webp:https://moov.ma/wp-content/uploads/2024/11/mim.webp
END:VEVENT
BEGIN:VEVENT
DTSTART;TZID=Africa/Casablanca:20250202T090000
DTEND;TZID=Africa/Casablanca:20250202T120000
DTSTAMP:20260421T000545
CREATED:20250118T145646Z
LAST-MODIFIED:20250118T171859Z
UID:10000040-1738486800-1738497600@moov.ma
SUMMARY:ROTA'RUN - COURSE CARITATIVE
DESCRIPTION:Le Rotaract Club Hippocrate de la Faculté de Médecine et de Pharmacie de Casablanca vous invite à participer à la ROTA’RUN\, une course\nsolidaire qui se tiendra le dimanche 2 février 2025 à la forêt de Bouskoura à partir de  9h. \nPrix du dossard : 200 MAD \nDeux distances sont proposées pour s’adapter à tous les niveaux : \n•    Une course de 5 km : idéale pour les débutants et les familles. \n•    Une course de 10 km : pour les amateurs de défis sportifs. \n  \nEn devenant un coureur engagé\, vous contribuez directement à : \n•    Financer une caravane médico-humanitaire\, pour apporter des soins essentiels  aux populations les plus vulnérables. \n•    Soutenir la rénovation d’une école dans le douar Al Chams (région d’Al Haouz)\, gravement touchée par le séisme. \n  \nDans une ambiance conviviale et solidaire\, coureur chevronné ou simple amateur\, chaque foulée que vous faites contribue à faire une réelle différence dans la vie de ceux qui en ont le plus besoin. \n  \nInscrivez-vous dès maintenant via le lien Google Forms joint au descriptif et retrouvez tous les détails pratiques ainsi que le règlement de la course dans les PDFs ci-joints. \nInformations Pratiques\nRèglement Général \nPour réserver votre dossard\, l’inscription est obligatoire via le formulaire Google Forms en plus de l’achat du ticket : toute inscription non effectuée par ce biais ne sera pas considérée comme valide.\nLien du formulaire : https://forms.gle/ZCTuLYxZDaSn1juw5
URL:https://moov.ma/course/rotarun-course-caritative/
LOCATION:Bouskoura\, Foret de Bouskoura\, Casablanca\, Morocco
CATEGORIES:Courses 10km
ATTACH;FMTTYPE=image/jpeg:https://moov.ma/wp-content/uploads/2025/01/original_Affiche_Rota_Run_LARGE_page_0001.jpg
END:VEVENT
BEGIN:VEVENT
DTSTART;VALUE=DATE:20250209
DTEND;VALUE=DATE:20250210
DTSTAMP:20260421T000545
CREATED:20241108T163850Z
LAST-MODIFIED:20250124T152204Z
UID:10000014-1739059200-1739145599@moov.ma
SUMMARY:Course 10 km Internationale de Casablanca
DESCRIPTION:Nous vous attendons pour : la 14ème édition de la course 10KM internationale de Casablanca le 09 Février 2025 \nInscriptions sur : 10KM-CASABLANCA.COM \nParcours de la course 10 KM :  \n \nLes participants ayant effectué leur inscription sur le site de la course\, peuvent récupérer leurs dossards à École supérieure des industries du textile et de l’habillement (ESITH)\, Km 8 Route El-Jadida\, Casablanca à partir de lundi 03/02/2025 (Du lundi au samedi du 09h à 21h)
URL:https://moov.ma/course/course-10-km-internationale-de-casablanca/
LOCATION:Hay Hassani\, Hay Hassani\, Casablanca\, Morocco
CATEGORIES:Courses 10km
ATTACH;FMTTYPE=image/jpeg:https://moov.ma/wp-content/uploads/2024/11/10KMCasablanca-ImageNew.jpeg
END:VEVENT
BEGIN:VEVENT
DTSTART;VALUE=DATE:20250211
DTEND;VALUE=DATE:20250216
DTSTAMP:20260421T000545
CREATED:20241113T123547Z
LAST-MODIFIED:20241113T123547Z
UID:10000019-1739232000-1739663999@moov.ma
SUMMARY:Transmarocaine Tizi N’Trail 2025 – Edition 12
DESCRIPTION:Le Tizi N’Trail est un trail disputé au Maroc par des concurrents qui allient performance\, solidarité et convivialité. La première édition de cette course à pied a eu lieu en 2013 à Ouarzazate et a connu un succès immédiat. Depuis\, l’association française AVENTUREL et GO2EVENTS organise la course tous les ans\, entre mer\, désert\, lac et montagne. \nDu 11 au 15 février 2025\, le Tizi N’Trail fêtera son 12ème anniversaire ! Cette nouvelle édition se déroulera dans la magnifique région du désert de Chégaga au sud-Est du Maroc. Au programme : trois jours de courses et randonnée qui se tiendront dans des paysages exceptionnels. \nDeux choix se présentent aux concurrents du Tizi N’Trail : \nparticiper aux trois étapes en mode course\neffectuer les trois étapes en mode randonnée (sur le même parcours).\nPour plus d’informations sur le Tizi N’Trail 2025\, contactez-nous.
URL:https://moov.ma/course/transmarocaine-tizi-ntrail-2025-edition-12/
LOCATION:Chégaga\, Désert Chigaga\, Draa-Tafilalet\, Morocco
CATEGORIES:Trails
ATTACH;FMTTYPE=image/jpeg:https://moov.ma/wp-content/uploads/2024/11/LF-Tizi-N-Trail-2019-5837.jpg
END:VEVENT
BEGIN:VEVENT
DTSTART;VALUE=DATE:20250215
DTEND;VALUE=DATE:20250217
DTSTAMP:20260421T000545
CREATED:20241108T164447Z
LAST-MODIFIED:20241108T164447Z
UID:10000015-1739577600-1739750399@moov.ma
SUMMARY:Marathon Spirituel de Fès
DESCRIPTION:Le Marathon Spirituel de Fès est un évènement sportif\, festif et économique organisé par Dila Athlétique\, ayant pour objectifs de contribuer à la cohésion sociale de la ville et au développement des animations sportives locales tout en permettant un moment de convivialité\, de partage et de découverte.
URL:https://moov.ma/course/marathon-spirituel-de-fes/
LOCATION:Fès\, Fès\, Fès\, Morocco
CATEGORIES:Marathons
ATTACH;FMTTYPE=image/jpeg:https://moov.ma/wp-content/uploads/2024/11/FEZ-2.jpg
END:VEVENT
BEGIN:VEVENT
DTSTART;VALUE=DATE:20250216
DTEND;VALUE=DATE:20250217
DTSTAMP:20260421T000545
CREATED:20241205T214214Z
LAST-MODIFIED:20241205T214214Z
UID:10000035-1739664000-1739750399@moov.ma
SUMMARY:Trail Lac Lalla Takerkoust
DESCRIPTION:Chers passionnés de sport et de nature\, préparez-vous pour un événement exceptionnel au bord du Lac Lalla Takerkoust! Niché entre les collines environnantes et les majestueuses montagnes enneigées du Haut Atlas\, ce trail s’annonce comme une expérience mémorable. \nCette édition coïncide également avec le Rendez-vous des Hôtels en Forme de Marrakech\, où plus de 300 employés se réuniront pour célébrer le sport et faire de ce trail un événement marquant ! \nLe Trail Lac Lalla Takerkoust n’est pas qu’une simple course ; il incarne le début de notre aventure avec l’Association Trail Maroc*en 2018. C’est un véritable moment de fête\, ouvert à tous – élites et amateurs – qui met en avant le développement d’une pratique sportive durable et équitable\, tout en célébrant la beauté de notre territoire.
URL:https://moov.ma/course/trail-lac-lalla-takerkoust/
LOCATION:Lac Lalla Takerkoust\, Lac Lalla Takerkoust\, Marrakech\, Morocco
CATEGORIES:Trails
ATTACH;FMTTYPE=image/jpeg:https://moov.ma/wp-content/uploads/2024/12/FLYER-TRAIL-LAC-LALLA-TAKERKOUST-2025.jpg
ORGANIZER;CN="Trail Maroc":MAILTO:direction@trailmaroc.com
END:VEVENT
BEGIN:VEVENT
DTSTART;VALUE=DATE:20250223
DTEND;VALUE=DATE:20250224
DTSTAMP:20260421T000545
CREATED:20241121T104443Z
LAST-MODIFIED:20241121T104503Z
UID:10000026-1740268800-1740355199@moov.ma
SUMMARY:10km de Hay Mohammadi
DESCRIPTION:Pré-inscription : DECATHLON AIN SEBAA\, LA CASABLANCAISE. \nDépart de la course : Complexe culturel de HAY MOHAMMADI à 9h30 \nPour plus d’infos : 06 61 96 60 17 / 06 62 07 88 32 / 06 01 07 34 67 \nFrais d’inscription: 100DH
URL:https://moov.ma/course/5624/
LOCATION:Hay Mohammadi\, Complexe culturel de HAY MOHAMMADI\, Casablanca\, Morocco
CATEGORIES:Courses 10km
ATTACH;FMTTYPE=image/jpeg:https://moov.ma/wp-content/uploads/2024/11/hay.jpg
END:VEVENT
BEGIN:VEVENT
DTSTART;TZID=Africa/Casablanca:20250322T210000
DTEND;TZID=Africa/Casablanca:20250322T210000
DTSTAMP:20260421T000545
CREATED:20250319T220933Z
LAST-MODIFIED:20250319T221005Z
UID:10000043-1742677200-1742677200@moov.ma
SUMMARY:Trail Nocturne Ramadanesque de Benslimane
DESCRIPTION:Trail Nocturne Ramadanesque de Benslimane aura lieu le Samedi 15 Mars 2025 dans la belle nature de notre région riche par leur divers paysages magnifiques assuré par un micro-climat redoutable qui favorisent largement la pratique du sports et des loisirs. \nUne soirée Ramadanesque dans la nature loin de l’autonomie de la ville pour un vide total.\nUn évènement pour la famille\, des amis\, des couples… \nLa Distance:\n10km Run\, Rando.\n20km VTT (2 Boucles).\n– Départ à 21h.\n– Parcours 100% forêt.\n– La place: forêt de Benslimane (Ain Tizgha).\n– L’inscription est déjà lancée.\n– Les places sont limitées.\n– Pas d’inscription sur place.\n– Dernier délai d’inscription le 10 Mars 2025.\n– la Cotisation est de 300dh dont le Ftour Ramadanesque ensemble avec le groupe\, Dossard\, un très beau T-shirt\, une belle Médaille\, Ravitaillement et Animation. \nPour inscription:\nVous devez confirmer votre présence en réglant le prix de participation par virement au compte numéro 007110000423200043009533 Attijari wafabank\, numéro de CIN TA38895 et m’envoyer une photo du reçu du versement sur whatsapp au numéro: 0661903304.\nAssociation Achourouk est toujours au rendez-vous.\nvous êtes les bienvenus mes chers amis et amies bien sûr.\nContact 0661903304.
URL:https://moov.ma/course/trail-nocturne-ramadanesque-benslimane/
LOCATION:Foret de Benslimane\, Foret de Benslimane\, Benslimane\, Morocco
CATEGORIES:Trails
ATTACH;FMTTYPE=image/jpeg:https://moov.ma/wp-content/uploads/2025/03/trail-nocture-benslimane.jpg
END:VEVENT
END:VCALENDAR