BEGIN:VCALENDAR
VERSION:2.0
PRODID:-//MOOV.MA - ECPv6.10.1.1//NONSGML v1.0//EN
CALSCALE:GREGORIAN
METHOD:PUBLISH
X-WR-CALNAME:MOOV.MA
X-ORIGINAL-URL:https://moov.ma
X-WR-CALDESC:Évènements pour MOOV.MA
REFRESH-INTERVAL;VALUE=DURATION:PT1H
X-Robots-Tag:noindex
X-PUBLISHED-TTL:PT1H
BEGIN:VTIMEZONE
TZID:Africa/Casablanca
BEGIN:DAYLIGHT
TZOFFSETFROM:+0100
TZOFFSETTO:+0000
TZNAME:+00
DTSTART:20250223T020000
END:DAYLIGHT
BEGIN:STANDARD
TZOFFSETFROM:+0000
TZOFFSETTO:+0100
TZNAME:+01
DTSTART:20250406T020000
END:STANDARD
END:VTIMEZONE
BEGIN:VEVENT
DTSTART;TZID=Africa/Casablanca:20250322T210000
DTEND;TZID=Africa/Casablanca:20250322T210000
DTSTAMP:20260422T140645
CREATED:20250319T220933Z
LAST-MODIFIED:20250319T221005Z
UID:10000043-1742677200-1742677200@moov.ma
SUMMARY:Trail Nocturne Ramadanesque de Benslimane
DESCRIPTION:Trail Nocturne Ramadanesque de Benslimane aura lieu le Samedi 15 Mars 2025 dans la belle nature de notre région riche par leur divers paysages magnifiques assuré par un micro-climat redoutable qui favorisent largement la pratique du sports et des loisirs. \nUne soirée Ramadanesque dans la nature loin de l’autonomie de la ville pour un vide total.\nUn évènement pour la famille\, des amis\, des couples… \nLa Distance:\n10km Run\, Rando.\n20km VTT (2 Boucles).\n– Départ à 21h.\n– Parcours 100% forêt.\n– La place: forêt de Benslimane (Ain Tizgha).\n– L’inscription est déjà lancée.\n– Les places sont limitées.\n– Pas d’inscription sur place.\n– Dernier délai d’inscription le 10 Mars 2025.\n– la Cotisation est de 300dh dont le Ftour Ramadanesque ensemble avec le groupe\, Dossard\, un très beau T-shirt\, une belle Médaille\, Ravitaillement et Animation. \nPour inscription:\nVous devez confirmer votre présence en réglant le prix de participation par virement au compte numéro 007110000423200043009533 Attijari wafabank\, numéro de CIN TA38895 et m’envoyer une photo du reçu du versement sur whatsapp au numéro: 0661903304.\nAssociation Achourouk est toujours au rendez-vous.\nvous êtes les bienvenus mes chers amis et amies bien sûr.\nContact 0661903304.
URL:https://moov.ma/course/trail-nocturne-ramadanesque-benslimane/
LOCATION:Foret de Benslimane\, Foret de Benslimane\, Benslimane\, Morocco
CATEGORIES:Trails
ATTACH;FMTTYPE=image/jpeg:https://moov.ma/wp-content/uploads/2025/03/trail-nocture-benslimane.jpg
END:VEVENT
BEGIN:VEVENT
DTSTART;TZID=Africa/Casablanca:20250406T080000
DTEND;TZID=Africa/Casablanca:20250406T080000
DTSTAMP:20260422T140645
CREATED:20250319T222914Z
LAST-MODIFIED:20250319T223019Z
UID:10000045-1743926400-1743926400@moov.ma
SUMMARY:Green Challenge Technopolis 2025
DESCRIPTION:GREEN CHALLENGE 2025 EN PARTENARIAT AVEC EWANE : LA COURSE D’OBSTACLES ENGAGÉE EST DE RETOUR AVEC UN TOUT NOUVEAU LIEU : TECHNOPOLIS – SALÉ ! Compétiteurs de haut niveau ou aventuriers du dimanche\, en solo ou en équipe\, entre amis ou en famille\, le Green Challenge vous fera vivre une expérience inoubliable!  \nInscrivez-vous dès maintenant!  https://greenchallenge.ma \n Dimanche 6 Avril 2025 Technopolis 7\,5 km de parcours 12 obstacles à franchir Un événement sportif engagé pour l’environnementPour les adultes et les enfants à partir de 6 ans\nProfitez d’un village d’animations avec de nombreuses activités bien-être et ludiques pour petits et grands : ateliers éco-responsables\, espace détente\, défis interactifs et bien plus encore ! 
URL:https://moov.ma/course/green-challenge-technopolis-2025/
LOCATION:Technopolis\, Technopolis\, Salé\, Morocco
CATEGORIES:Course d'obstacles,Courses 10km
ATTACH;FMTTYPE=image/jpeg:https://moov.ma/wp-content/uploads/2025/03/greenchallenge.jpg
END:VEVENT
BEGIN:VEVENT
DTSTART;TZID=Africa/Casablanca:20250406T080000
DTEND;TZID=Africa/Casablanca:20250406T080000
DTSTAMP:20260422T140645
CREATED:20250319T222116Z
LAST-MODIFIED:20250319T222143Z
UID:10000044-1743926400-1743926400@moov.ma
SUMMARY:Les 15km de Casablanca
DESCRIPTION:L’Association Sportive des Courses sur Route et Marathon organise les 15 km de Casablanca\, une course incontournable pour les passionnés de course à pied. Rejoignez-nous pour une journée sportive et conviviale au cœur de Casablanca ! \n📅 Date : Dimanche 6 avril 2025 \n📍 Lieu : Départ et arrivée au Boulevard Oum Errabia\, en face de Barid Al Maghrib \n🕗 Heure de départ : 8h00 du matin \nCatégories d’âge : \n•Seniors : 17 à 37 ans \n•Master 1 : 38 à 48 ans \n•Master 2 : 49 à 50 ans \nInscriptions : \n📅 Ouverture des inscriptions : À partir du 20 mars 2025 \n📍 Lieu d’inscription : L’Académie Régionale d’Enseignement Hay Hassani \n📞 Contact : 06.21.84.24.55 \n📧 Email : m.aouam64@gmail.com \n \n\n 
URL:https://moov.ma/course/les-15km-de-casablanca/
LOCATION:Casablanca\, Casablanca\, Casablanca\, Morocco
CATEGORIES:Courses 10km
ATTACH;FMTTYPE=image/jpeg:https://moov.ma/wp-content/uploads/2025/03/87101948-61846293.jpg
END:VEVENT
BEGIN:VEVENT
DTSTART;TZID=Africa/Casablanca:20250406T083000
DTEND;TZID=Africa/Casablanca:20250406T083000
DTSTAMP:20260422T140645
CREATED:20250319T223932Z
LAST-MODIFIED:20250319T224238Z
UID:10000046-1743928200-1743928200@moov.ma
SUMMARY:Access Run - Course DUO
DESCRIPTION:🎽 ACCESS RUN – COURSE DUO 6KM 🎽\n🗓 6 AVRIL 2025 – Journée mondiale du sport pour la paix et le développement\nUne course pas comme les autres… Ici\, on ne court jamais seul ! \n🏃‍♂️ Organisée par Nabda Foundation\, ACCESS RUN est un événement unique où l’inclusivité et la solidarité sont au cœur de l’expérience.\nFormez un duo et venez vivre 6 km de fun\, de partage et de dépassement\, reliés du début jusqu’à la ligne d’arrivée 🏁💥 \n🚩 Cette course\, qui débutera du Phare de Casablanca jusqu’à l’esplanade de la Mosquée Hassan II\, est un véritable symbole de notre concept.\nLe phare\, symbole de guidance et d’orientation\, accompagnera les coureurs en duo sur leur parcours\, illustrant l’importance du partage et de l’harmonie tout au long du chemin.\n👯‍♂️ Ton binôme est déjà prêt ? Parfait\, il ne vous reste plus qu’à vous inscrire et à enfiler vos baskets ! \n🔎 Pas encore de coéquipier ? Aucun souci\, inscris-toi solo et on te trouve le partenaire idéal. \n🔥 ACCESS RUN\, c’est :\n✅ Une course accessible à tous (débutants\, confirmés\, handis\, valides)\n✅ Une ambiance conviviale et inclusive\n✅ Un challenge collectif où l’entraide fait la force. \nInclus\n– T-shirt\n– Sangle duo\n– Médaille de participation\n– Volontaires pour aider les personnes dans le besoin\n– Ravitaillement \nInfos pratiques\nDossard à récupérer avant la marche au 44\, rue Ibnou Majat\, 20100\, Casablanca\nA partir du 30 mars jusqu’au 5 avril 14h \n🕗 Programme de la journée :\n08h00 → Accueil des participants & ouverture du village\n08h30 → Lancement officiel des animations et stands\n09h00 → Échauffement collectif pour tous\, dans une ambiance conviviale\n09h30 → Départ de la marche & accès libre aux stands et animations\n13h00 → Clôture de l’événement \n⚠️Le lien pour s’inscrire: https://www.wanaut.com/a/access-run-course-duo/
URL:https://moov.ma/course/access-run-course-duo/
LOCATION:Casablanca\, Casablanca\, Casablanca\, Morocco
CATEGORIES:Courses 10km
ATTACH;FMTTYPE=image/jpeg:https://moov.ma/wp-content/uploads/2025/03/access-run.jpg
END:VEVENT
BEGIN:VEVENT
DTSTART;VALUE=DATE:20250412
DTEND;VALUE=DATE:20250414
DTSTAMP:20260422T140645
CREATED:20250319T225248Z
LAST-MODIFIED:20250319T225248Z
UID:10000047-1744416000-1744588799@moov.ma
SUMMARY:Marrakech Run
DESCRIPTION:MarrakechRun\, un événement emblématique de la série TheCityRun\, vise à promouvoir la santé\, le sport et l’adoption d’un mode de vie actif à travers des activités inclusives et accessibles à tous. Cet événement célèbre Marrakech\, ses paysages emblématiques et sa communauté dynamique de sportifs. \nL’inscription est gratuite\, permettant à un maximum de participants de profiter des activités variées proposées. Pour ceux qui souhaitent marquer leur expérience\, des T-shirts\, casquettes et médailles sont disponibles à des prix symboliques. \nUn programme pour tous\nPendant deux jours\, MarrakechRun propose une diversité d’activités non compétitives adaptées à tous les âges et niveaux sportifs\, telles que : \n\nMarche et course : parcours de 5 km\, 10 km ou 15 km\nCourse en famille\nSessions de fitness et cardio : animées par des coachs certifiés\nInitiations sportives\nActivités inclusives : comme des courses en chaises roulantes\nLes participants peuvent choisir les activités qu’ils souhaitent le samedi et/ou le dimanche et rejoindre l’événement seul\, en famille ou avec des amis.\n\nPourquoi participer à MarrakechRun ?\nEn participant à MarrakechRun\, vous bénéficiez : \n\nDe l’opportunité de découvrir ou redécouvrir les lieux emblématiques de Marrakech.\nD’un accès gratuit aux activités et à un certificat de participation.\nD’une ambiance conviviale et festive.\nD’une occasion unique d’intégrer la communauté sportive de Marrakech\, composée de passionnés et de professionnels.\n\n  \nL’esprit TheCityRun\nMarrakechRun s’inscrit dans le cadre de TheCityRun\, une initiative nationale célébrant les villes marocaines à travers le sport. Cet événement met en lumière les associations locales\, les groupes de coureurs\, les coachs sportifs et les champions sportifs pour inspirer un mode de vie actif et encourager les interactions sociales. \nNous vous invitons à rejoindre cette aventure sportive et à profiter d’un week-end inoubliable sous le signe de la santé\, du sport et de la découverte.
URL:https://moov.ma/course/marrakech-run/
LOCATION:Marrakech\, Marrakech\, Morocco
CATEGORIES:Courses 10km
ATTACH;FMTTYPE=image/jpeg:https://moov.ma/wp-content/uploads/2025/03/mr.jpg
END:VEVENT
BEGIN:VEVENT
DTSTART;VALUE=DATE:20250413
DTEND;VALUE=DATE:20250414
DTSTAMP:20260422T140645
CREATED:20241127T184332Z
LAST-MODIFIED:20241127T184358Z
UID:10000031-1744502400-1744588799@moov.ma
SUMMARY:3ème édition Trail Ourika
DESCRIPTION:Nous sommes fiers et excités de vous accueillir pour cette 3ème édition\, qui promet d’être encore meilleure avec plein de nouveautés et de surprises. Nous sommes reconnaissants de l’espace naturel magnifique que nous offre le Haut Atlas pour cette aventure. Les paysages à couper le souffle sauront émerveiller vos yeux et mettre à l’épreuve vos organismes.\nL’évolution de notre aventure a été remarquable\, et cette 3ème édition ne fait pas exception. Nous avons appris des éditions précédentes et avons apporté des améliorations significatives pour rendre cette expérience encore plus mémorable.\nNous vous invitons à découvrir le Trail de Ourika.\nCe TRAIL offre des caractéristiques uniques et une variété de terrains\, vous permettant de vivre une aventure en plein air inoubliable.\nNous avons hâte de vous accueillir et de partager cette expérience incroyable avec vous.\nPréparez-vous à l’inattendu et à une journée remplie de défis et de plaisir.\nMerci à tous\, et à très bientôt sur le sentier de Ourika !
URL:https://moov.ma/course/3eme-edition-trail-ourika/
LOCATION:Ourika\, Ourika\, Marrakech\, Morocco
CATEGORIES:Trails
ATTACH;FMTTYPE=image/jpeg:https://moov.ma/wp-content/uploads/2024/11/trail-ourika-e1732733000154.jpg
END:VEVENT
BEGIN:VEVENT
DTSTART;VALUE=DATE:20250413
DTEND;VALUE=DATE:20250414
DTSTAMP:20260422T140645
CREATED:20241031T144722Z
LAST-MODIFIED:20250323T114439Z
UID:10000005-1744502400-1744588799@moov.ma
SUMMARY:Trail Ôlac Oued Maleh
DESCRIPTION:Le Trail Ôlac Oued Maleh région Benslimane aura lieu le dimanche 01 décembre 2024 dans la belle nature de notre région riche par leur divers paysages magnifiques assuré par un micro-climat redoutable qui favorisent largement la pratique des sports et loisirs.\nUne journée dans la nature loin de l’otonomie de la ville pour un vide total.\nUn évènement pour des couples pour les familles\, place pour les enfants: des jeux…\nRestauration: petit déjeuner\, déjeuner… \nLes Distances:\n12km Run\, 12km Rando\n21km Run\, 21km VTT.\nTrailathlon 21km VTT+ 12km Run.\n42km VTT.\nDépart à 9h30mn du matin.\nLe petit déjeuner\, le dossard\, un très beau T-shirt\, une belle Médaille\, Ticket de Crazy Park Casablanca\, Ravitaillement au cours et à la fin de l’événement et animation avec option Kayak et Voile Catamaran.\nNB: L’inscription est déjà lancé\,\nPas d’inscription sur place. \nLa cotisation est de:\n250dh pour les 12km.\n300dh poout les 21kms.\n350dh Trailathlon(21km VTT+12 Run) et 42km VTT.
URL:https://moov.ma/course/trail-olac-oued-maleh/
LOCATION:Oued Maleh\, Barrage Oued El Maleh\, Moualine el Oued\, Morocco
CATEGORIES:Trails
ATTACH;FMTTYPE=image/jpeg:https://moov.ma/wp-content/uploads/2024/10/olac.jpg
END:VEVENT
BEGIN:VEVENT
DTSTART;VALUE=DATE:20250413
DTEND;VALUE=DATE:20250414
DTSTAMP:20260422T140645
CREATED:20250323T120150Z
LAST-MODIFIED:20250323T120710Z
UID:10000050-1744502400-1744588799@moov.ma
SUMMARY:Trail International de Challalat Ouzoud 2025
DESCRIPTION:شلالات أوزود ترحب بعشاق سباقات الترايل، من خلال تنظيم الدورة الأولى لترايل أوزود الدولي، مسافة 20 كلم، وذلك يوم الأحد 13 أبريل 2025.
URL:https://moov.ma/course/trail-international-de-challalat-ouzoud-2025/
LOCATION:Azilal\, Cascades Ouzoud\, Azilal\, Morocco
CATEGORIES:Trails
ATTACH;FMTTYPE=image/jpeg:https://moov.ma/wp-content/uploads/2025/03/ouzoud.jpg
END:VEVENT
BEGIN:VEVENT
DTSTART;VALUE=DATE:20250413
DTEND;VALUE=DATE:20250414
DTSTAMP:20260422T140645
CREATED:20250319T231614Z
LAST-MODIFIED:20250319T231614Z
UID:10000049-1744502400-1744588799@moov.ma
SUMMARY:Trail Mont Tghat
DESCRIPTION:Prêt pour une nouvelle aventure ?\nLe Trail Mont Tghat est bien plus qu’une simple course\, c’est une aventure sportive au cœur de la nature\, mêlant défi\, passion et découverte. Organisé par l’Association Elite Running Fès\, cet événement revient pour une 2ᵉ édition en 2025\, après une première édition mémorable en 2024.\nAu programme : Trail 21 km\, Mini Trail 10 km\, Randonnée 10 km et Course enfants 2 km. \nRelevez le défi et vivez une expérience unique ! \n\n\n\n\nAu programme\n\n\n\n\n\n\n\n\n\n\nTrail 21 km\n\nUn défi pour les traileurs aguerris. \n\n\n\n\n\n\n\n\n\n\n\nTrail VTT 25 km\n\nUn parcours intense pour les amateurs de sensations fortes. \n\n\n\n\n\n\n\n\n\n\n\nMini Trail 10 km\n\nUne distance accessible pour les amateurs de trail. \n\n\n\n\n\n\n\n\n\n\n\nRandonnée 10 km\n\nUne immersion dans la nature pour tous. \n\n\n\n\n\n\n\n\n\n\n\nCourse enfant 2 km\n\nPour initier les plus jeunes à la passion du sport. \n\n\n\n\nPourquoi participer au Trail Mont Tghat\n\n\n\n\n\n\n\n\nLe Trail Mont Tghat est bien plus qu’une course\, c’est une véritable aventure au cœur de la nature\, où passion\, dépassement de soi et convivialité se rencontrent. Que vous soyez un coureur aguerri\, un amateur de trail\, un randonneur en quête d’évasion ou un jeune sportif\, ce défi est fait pour vous ! Sur des sentiers exceptionnels et préservés\, chaque pas vous rapprochera d’une expérience inoubliable. Avec une organisation de qualité\, un chronométrage officiel et une ambiance festive\, cette 2ᵉ édition promet d’être encore plus intense. Et à l’arrivée ? Une médaille finisher pour graver à jamais votre exploit. Rejoignez-nous et vivez l’émotion du Trail Mont Tghat 2025 ! \nInscription
URL:https://moov.ma/course/trail-mont-tghat/
LOCATION:Fès\, Fès\, Fès\, Morocco
CATEGORIES:Semi-marathons,Trails
ATTACH;FMTTYPE=image/webp:https://moov.ma/wp-content/uploads/2025/03/FR-AFfiche-2025-copie.webp
ORGANIZER;CN="Elite Running F%C3%A8s":MAILTO:contact@trailmontghat.com
END:VEVENT
BEGIN:VEVENT
DTSTART;VALUE=DATE:20250413
DTEND;VALUE=DATE:20250414
DTSTAMP:20260422T140645
CREATED:20250319T230517Z
LAST-MODIFIED:20250319T230517Z
UID:10000048-1744502400-1744588799@moov.ma
SUMMARY:Course de la Forêt Diplomatique
DESCRIPTION:La course de la forêt diplomatique est organisée par l’Association forêt diplomatique. Avec le soutien spécial de la Wilaya de Tanger-Tétouan-Hoceima\, l’objectif est de faire connaître largement les installations sportives et les espaces de loisirs qui ont été achevés dans la forêt diplomatique de Tanger et d’encourager le sport afin de profiter du potentiel de leurs jeunes et de découvrir leurs talents dans l’athlétisme et promouvoir un mode de vie sain. \n\n\n\n\n\n\n+2126 64 45 00 70\nassf.diplomatique@gmail.com
URL:https://moov.ma/course/course-de-la-foret-diplomatique/
LOCATION:Tanger\, Tanger\, Morocco
CATEGORIES:Courses 10km
ATTACH;FMTTYPE=image/jpeg:https://moov.ma/wp-content/uploads/2025/03/diplo.jpg
ORGANIZER;CN="Association for%C3%AAt diplomatique":MAILTO:assf.diplomatique@gmail.com
END:VEVENT
BEGIN:VEVENT
DTSTART;TZID=Africa/Casablanca:20250413T083000
DTEND;TZID=Africa/Casablanca:20250413T083000
DTSTAMP:20260422T140645
CREATED:20250215T114014Z
LAST-MODIFIED:20250215T114150Z
UID:10000041-1744533000-1744533000@moov.ma
SUMMARY:Ain Diab Race
DESCRIPTION:Imaginez courir sur un parcours légendaire en bord de mer\, l’océan à perte de vue et la brise salée sur votre visage. \nL’Ain Diab Race\, c’est bien plus qu’une course : un défi à la hauteur de vos ambitions\, quel que soit votre niveau. \nEntouré de passionnés\, vous vivrez une ambiance électrisante\, dans un cadre exceptionnel. \nVotre place vous attend sur la ligne de départ ! \nRejoignez-nous\, faites de chaque kilomètre un souvenir inoubliable. \nInscriptions sur : https://aindiabrace.com/ \nLa course AIN DIAB RACE est organisée par 2BE SPORT\, en partenariat avec l’agence Conseil en communication & évènementiel ReadyCom.\nPour toute information ou réclamation\, veuillez nous contacter à l’adresse suivante : aindiabrace@gmail.com. \nScreenshot
URL:https://moov.ma/course/ain-diab-race-10km-15km/
LOCATION:Ain Diab\, Aid Diab\, Casablanca\, Morocco
CATEGORIES:Courses 10km
ATTACH;FMTTYPE=image/jpeg:https://moov.ma/wp-content/uploads/2025/02/aindiab.jpeg
END:VEVENT
BEGIN:VEVENT
DTSTART;TZID=Africa/Casablanca:20250413T090000
DTEND;TZID=Africa/Casablanca:20250413T090000
DTSTAMP:20260422T140645
CREATED:20250323T124516Z
LAST-MODIFIED:20250323T124516Z
UID:10000053-1744534800-1744534800@moov.ma
SUMMARY:Semi Marathon de Settat
DESCRIPTION:Le dimanche 13 avril 2025\, rendez-vous à Settat pour la 19ème édition du Semi-Marathon organisé par le Club de l’INRA ! Trois parcours accessibles à tous les niveaux vous attendent : le semi-marathon de 21 km\, une course intermédiaire de 14 km et une course de consolation de 8 km. \nLe départ sera donné à 09h00 près du Club de l’INRA. Un chronométrage électronique précis et des points de ravitaillement en eau seront disponibles tout au long des parcours pour assurer votre confort et votre sécurité. \nLes inscriptions seront ouvertes du 10 mars au 10 avril 2025. Le paiement s’effectuera directement sur place au Club de l’INRA : 120 DH pour les individuels\, 100 DH par personne pour les groupes de plus de 10 coureurs\, et 80 DH par personne pour les groupes de plus de 20 coureurs. \nDes prix récompenseront les trois premiers coureurs de chaque catégorie\, et chaque participant recevra une attestation de participation à l’arrivée. Venez partager une journée sportive\, conviviale et festive\, placée sous le signe du plaisir\, de l’esprit d’équipe et du dépassement de soi !
URL:https://moov.ma/course/semi-marathon-de-settat-course-de-lespoir/
LOCATION:Settat\, Settat\, Morocco
CATEGORIES:Semi-marathons
ATTACH;FMTTYPE=image/jpeg:https://moov.ma/wp-content/uploads/2025/03/settat.jpg
END:VEVENT
BEGIN:VEVENT
DTSTART;TZID=Africa/Casablanca:20250413T100000
DTEND;TZID=Africa/Casablanca:20250413T100000
DTSTAMP:20260422T140645
CREATED:20250323T123245Z
LAST-MODIFIED:20250323T123431Z
UID:10000052-1744538400-1744538400@moov.ma
SUMMARY:Trail des Sept Villages
DESCRIPTION:Participez au Trail des Sept Villages le dimanche 13 avril 2025 ! \nDélivrance des dossards le jour de la course sur place. \nUne course de 17 km avec 350m de dénivelé positif à travers sept villages de la région d’Ajdir-Gzennaya. \n\n\n10h00 : Trail des Sept Villages | 17 km | inscription 10€ \n\n\n10h30 : Course 9-13 ans | 2 km | inscription gratuite \n\n\n\n\n\n\nT-shirts et médailles pour tous les participants ! \nRécompense pour : \n\n\nPodium Scratch Homme et Femme. \n\n\nPodium Vétérans Homme et Femme. \n\n\nPour toute question : trail-sept-villages@tremplindurif.org
URL:https://moov.ma/course/trail-des-sept-villages/
LOCATION:Ajdir\, Ajdir\, Al Hoceima\, Morocco
CATEGORIES:Trails
ATTACH;FMTTYPE=image/png:https://moov.ma/wp-content/uploads/2025/03/affiche_trail-AQEy7nQGExInDez4.png
END:VEVENT
BEGIN:VEVENT
DTSTART;VALUE=DATE:20250415
DTEND;VALUE=DATE:20250419
DTSTAMP:20260422T140645
CREATED:20250323T125510Z
LAST-MODIFIED:20250323T125555Z
UID:10000054-1744675200-1745020799@moov.ma
SUMMARY:Eco Trail Morocco
DESCRIPTION:L’ECO TRAIL MOROCCO est une course nature au cœur des oasis\, en allure libre\, sur une distance d’environ 70 km répartie en 3 étapes. Il existe également une deuxième épreuve\, une version plus courte de 30 km\, également en 3 étapes (3×10 km)\, pouvant se faire tant en course qu’en marche. L’événement est également ouvert aux Joëlettes. \nL’ECO TRAIL MOROCCO va au-delà d’une simple course nature ; c’est une aventure qui permet aux participants de découvrir la beauté naturelle des oasis marocaines tout en s’immergeant dans la culture riche et accueillante du pays. Cette expérience vous laissera des moments inoubliables. \nLa 11ème édition ECO TRAIL MOROCCO 2025 🇲🇦\n📅 Session d’avril : Du 15 au 18 avril 2025 – ( Complet)\n📅 Session d’octobre : Du 21 au 24 octobre 2025 – Les inscriptions sont ouvertes \nECO TRAIL MOROCCO est une course à pied au cœur des oasis en allure libre d’une distance de 70 km environ en 3 étapes ou une deuxième épreuve d’une distance totale de 30 km environ en 3 étapes (3x10km). \nEco Trail Morocco est une expérience unique et conviviale\, qui vous fera vivre des moments forts en émotion et en partage.\nVous pouvez courir ou marcher🏃!\, il n’ y a pas de temps limite ! \nLe tarif d’inscription pour les courses :\n\nPOUR LES MAROCAINS ET LE RESIDENTS AU MAROC : 6000 DH \nPOUR LES PARTICIPANTS NON-RÉSIDENTS AU MAROC:\n\n\n\n\nTARIFS GROUPE (à partir de 5 personnes) \n\n600 €  par personne avant le 15/07/2025\n650 €  par personne après le 15/07/2025\n\nTARIFS INDIVIDUEL \n\n650 € par personne avant le 15/07/2025\n700 € par personne après le 15/07/2025\n\n\n\n Ce prix comprend : \n\n\n• Quatre nuitées  (Pension complète )\n• La cérémonie d’ouverture.\n• La cérémonie Podium.\n• La cérémonie de clôture.\n• Les ravitaillements en liquide et solide.\n• Les transferts en bus  pendant la course.\n• Animations chaque soir pendant l’événement.\n• L’assistance médicale pendant la course.\n• Promotion et médiatisation de l’ECO TRAIL MOROCCO tout au long de l’année.\n• La médaille\, le tee-shirt et le dossard de la course.\n• La logistique.\n• L’eau plate est  fournie par l’organisation pendant l’événement (les boissons à table  non incluses ).\n• Assurance responsabilité civile pour la durée de l’épreuve.\n\nL’inscription s’effectue directement sur la plateforme en ligne\n(Les frais des services sont à la charge du participant)\nPROGRAMME DE L’ÉPREUVE \n\n\n\n\n21 OCTOBRE 2025\nÀ partir de 12h:  Accueil des participants à Ouarzazate\nÀ partir de 16h:  Remise des dossards\, vérifications techniques\, administratives et médicales (chaque concurrent devra se présenter au commissaire de course et devra obligatoirement avoir rempli les conditions techniques et administratives prévues par l’organisateur) \n20.00 Heure : Dîner\, soirée en l’honneur des participants puis  briefing.\n21.00 Heure :  Fin de journée\, nuit à l’hôtel \n22  OCTOBRE  2025\n1ère étape \nDistance:  20 km environ et 10km\, le départ est en  simultané. Les participants de l’épreuve de 10 km s’ arrêtent  après avoir parcouru 10 km  et sont transférés à l’arrivée du 20 km.\n06.00 Heure : Petit déjeuner. \n07.00 Heure : Rassemblement à la réception  de l’hôtel\, pour se rendre  en bus sur le lieu du départ d’étape.\n08.00 Heure :  Départ de la course.\nFin d’étape\, transfert à l’hôtel .\n13.00 Heure :  Déjeuner.\n19.00 Heure : Soirée  musicale\, elle sera animée par le folklore local  puis  briefing.\n\n 20.00 Heure : Dîner.\n\n\n23  OCTOBRE  2025\n2ème étape \nDistance:  24 km environ et 10km\, le départ est en simultané. Les participants de l’épreuve de 10 km  s’ arrêtent  après avoir parcouru 10 km  et sont transférés à l’arrivée du 24 km.\n06.00 Heure : Petit déjeuner.\n07.00 Heure : Rassemblement à la réception  de l’hôtel\, pour se rendre  en bus sur le lieu du départ d’étape.\n08.00 Heure :  Départ de la course.\nFin d’étape\, transfert à l’hôtel .\n13.00 Heure :  Déjeuner.\n19.00 Heure : Soirée  musicale\, elle sera animée par le folklore local  puis  briefing.\n20.00 Heure : Dîner\n\n\n\n24  OCTOBRE  2025\n\n3ème étape \nDistance:  26 km environ et 10km\, le départ est  en simultané. Les participants de l’épreuve de 10 km  s’ arrêtent  après avoir parcouru 10 km  et sont transférés à l’arrivée du 26 km.\n06.00 Heure : Petit déjeuner.\n07.00 Heure : Rassemblement à la réception  de l’hôtel\, pour se rendre  en bus sur le lieu du départ d’étape.\n08.00 Heure :  Départ de la course.\nFin d’étape\, transfert à l’hôtel .\n13.00 Heure :  Déjeuner.\n19.00 Heure :  Remise des prix et soirée  musicale\, elle sera animée par le folklore local .\n20.00 Heure :   Dîner.\n\n\n25 AVRIL 2025\n\n07.00 Heure :   Petit déjeuner\n09.00 Heure :  Fin de l’événement et départ des participants. \n\n\nINSCRIVEZ VOUS MAINTENANT
URL:https://moov.ma/course/eco-trail-morocco/
LOCATION:Ouarzazate\, Ouarzazate\, Ouarzazate\, Morocco
CATEGORIES:Trails
ATTACH;FMTTYPE=image/jpeg:https://moov.ma/wp-content/uploads/2025/03/ecotrail.jpg
END:VEVENT
BEGIN:VEVENT
DTSTART;VALUE=DATE:20250420
DTEND;VALUE=DATE:20250421
DTSTAMP:20260422T140645
CREATED:20250323T132039Z
LAST-MODIFIED:20250323T132039Z
UID:10000055-1745107200-1745193599@moov.ma
SUMMARY:Trail Oum Ayach - Kelaat Megouna
DESCRIPTION:Le dimanche 20 avril 2025\, découvrez toute la beauté et le charme authentique de la vallée des roses lors de la Première Edition Trail international Oum Ayache\, organisé par l’Association Marocaine de Course Kelaat Megouna. \nCette course nature exceptionnelle propose trois magnifiques parcours adaptés à tous les niveaux : un trail principal de 20 km ainsi qu’une course découverte accessible à tous sur 7 km. \nAu programme : traversée des paysages variés de l’oasis parfumée de Qalaa M’Gouna\, champs fleuris d’Oum Ayache\, villages historiques chargés d’histoire de la communauté Aït Sedrat\, et immersion sensorielle dans les célèbres jardins de roses de Dadès. \nLe départ sera donné à 10h00 devant l’Hôtel Ksar Kaissar\, avec chronométrage électronique et ravitaillements réguliers pour une expérience optimale. \nBienvenue à tous les coureurs marocains et internationaux pour vivre une journée sportive sous le signe de la convivialité\, de la découverte et du parfum unique des roses ! \nInscriptions ouvertes à tous.📞 Infos et inscriptions au 06 74 21 64 37. 🌹
URL:https://moov.ma/course/trail-oum-ayach-kelaat-megouna/
LOCATION:Kelaat Mgouna\, Kelâat M'Gouna\, Kelâat M'Gouna\, Morocco
CATEGORIES:Trails
ATTACH;FMTTYPE=image/jpeg:https://moov.ma/wp-content/uploads/2025/03/oum-ayache.jpg
END:VEVENT
BEGIN:VEVENT
DTSTART;VALUE=DATE:20250420
DTEND;VALUE=DATE:20250421
DTSTAMP:20260422T140645
CREATED:20241214T134903Z
LAST-MODIFIED:20241214T134903Z
UID:10000037-1745107200-1745193599@moov.ma
SUMMARY:5Km et 10Km de l'oriental - Oujda
DESCRIPTION:Chers coureurs\, passionnés de sport\nC’est avec un immense plaisir que nous vous annonçons le lancement de la première édition \, les courses internationales 5 KM & 10 KM de l’Oriental.\nUn événement sportif exceptionnel qui aura lieu le dimanche 20 Avril 2025 à Oujda 🏃🏻🏃🏻‍♀️ \n🏃‍♂️💨 Préparez-vous pour le grand événement de la région de l’Oriental ! 🏃‍♀️💨\nUn défi à ne pas manquer pour tous les passionnés de course à pied\, que vous soyez débutant ou confirmé \, et rejoignez-nous pour cette première édition qui\, nous l’espérons\, sera le début d’une belle tradition dans notre région🏆🏅❤\nCette première édition \,deux épreuves rythmeront la ville d’Oujda : les 5 Km🏅et les 10 km 🥇 🎽🏃‍♂️🏃‍♀️ \n🔸 Courses de 5 km & 10 km\n🔸 Récompenses et primes pour les 3 premiers hommes et femmes de chaque course 💶🏆\n🔸 Tombola exceptionnelle avec de nombreux lots à gagner 🎁 \nNous sommes impatients de vous retrouver pour revivre cette expérience festive\, sportive et remplie de rencontres\, de joie et de bonne humeur ! \nLes inscriptions seront ouvertes à partir du 02 janvier 2025 🌟👟🏃‍♀️🏃‍♂️ \nÀ très bientôt sur la ligne de départ !\nStay Tuned !
URL:https://moov.ma/course/5km-et-10km-de-loriental-oujda/
LOCATION:Oujda\, Oujda\, Oujda\, Morocco
CATEGORIES:Courses 10km
ATTACH;FMTTYPE=image/jpeg:https://moov.ma/wp-content/uploads/2024/12/oujda-1.jpg
END:VEVENT
END:VCALENDAR