BEGIN:VCALENDAR
VERSION:2.0
PRODID:-//MOOV.MA - ECPv6.10.1.1//NONSGML v1.0//EN
CALSCALE:GREGORIAN
METHOD:PUBLISH
X-WR-CALNAME:MOOV.MA
X-ORIGINAL-URL:https://moov.ma
X-WR-CALDESC:Évènements pour MOOV.MA
REFRESH-INTERVAL;VALUE=DURATION:PT1H
X-Robots-Tag:noindex
X-PUBLISHED-TTL:PT1H
BEGIN:VTIMEZONE
TZID:Africa/Casablanca
BEGIN:DAYLIGHT
TZOFFSETFROM:+0100
TZOFFSETTO:+0000
TZNAME:+00
DTSTART:20250223T020000
END:DAYLIGHT
BEGIN:STANDARD
TZOFFSETFROM:+0000
TZOFFSETTO:+0100
TZNAME:+01
DTSTART:20250406T020000
END:STANDARD
END:VTIMEZONE
BEGIN:VEVENT
DTSTART;TZID=Africa/Casablanca:20250706T090000
DTEND;TZID=Africa/Casablanca:20250706T090000
DTSTAMP:20260420T141140
CREATED:20250616T142637Z
LAST-MODIFIED:20250616T142849Z
UID:10000062-1751792400-1751792400@moov.ma
SUMMARY:Trail des Cerises - Ain Leuh
DESCRIPTION:🍒 Trail des Cerises – 5ᵉ édition\n📍 Aïn Leuh\, Province d’Ifrane | 📅 Dimanche 6 juillet 2025 | 🕘 Départ à 9h \nÀ l’occasion de l’anniversaire de Son Altesse Royale le Prince Héritier Moulay El Hassan\, l’Association Al Amane du Sport et Culture organise la cinquième édition du Trail des Cerises\, un événement unique mêlant sport\, nature et convivialité au cœur des paysages verdoyants d’Aïn Leuh (Ifrane). \n🏃‍♂️ Distances proposées :\n\n25 km – Parcours exigeant à travers forêts et reliefs\n13 km – Trail intermédiaire accessible aux habitués\n2 km – Course découverte ouverte à tous\, enfants et familles\n\n📊 Catégories :\n\nM : 17 à 40 ans\nV1 : 41 à 45 ans\nV2 : 46 à 50 ans\nV3 : 51 à 55 ans\nV4 : 56 à 60 ans\nV5 : 60 ans et plus\n\n💰 Tarif d’inscription :\n200 MAD\, incluant petit-déjeuner + déjeuner📩 RIB : 350810000000001131388288📞 Infos & inscriptions : 0662 59 03 03 / 0653 19 53 79 \n🎙️ Partenaires médias : 2M\, Hit Radio\, Province d’Ifrane\, ministère de la Culture et du Sport.
URL:https://moov.ma/course/trail-des-cerises-ain-leuh/
LOCATION:Ain Leuh\, Ain Leuh\, Ain Leuh\, Morocco
CATEGORIES:Trails
ATTACH;FMTTYPE=image/jpeg:https://moov.ma/wp-content/uploads/2025/06/trail-cerises.jpg
END:VEVENT
BEGIN:VEVENT
DTSTART;VALUE=DATE:20250727
DTEND;VALUE=DATE:20250728
DTSTAMP:20260420T141140
CREATED:20250717T224308Z
LAST-MODIFIED:20250717T224308Z
UID:10000071-1753574400-1753660799@moov.ma
SUMMARY:Course Internationale de 10 KM – Dchira\, Laâyoune
DESCRIPTION:À l’occasion de la célébration du 26e anniversaire de l’intronisation de Sa Majesté le Roi Mohammed VI\, la commune de Dchira et l’Union du retour sportif à Laâyoune organisent la première édition du 10 km international sur route\, en hommage au capitaine martyr Bensmaoud Lahssoul Lahbib Ould M’Barek. \nCet événement sportif d’envergure se déroulera le dimanche 27 juillet 2025 à Dchira (Laâyoune) et rassemblera des athlètes venus du Maroc et d’ailleurs dans une ambiance de fraternité et de performance. \n📍 Lieu : Dchira – Laâyoune📅 Date : Dimanche 27 juillet 2025🕘 Heure : Matinée (heure exacte à confirmer)📏 Distance : 10 kilomètres🎽 Type : Course sur route – accessible à tous les niveaux🎖️ Hommage : En mémoire du capitaine martyr Bensmaoud Lahssoul📣 Organisation : \n\nSous l’égide de la Fédération Royale Marocaine d’Athlétisme\nEn partenariat avec la commune de Dchira\nAvec la coordination de la Ligue régionale Laâyoune-Sakia El Hamra d’athlétisme\n\n🆓 Participation gratuite – inscriptions sur place ou via les organisateurs📞 Contact : +212 6 68 80 36 96
URL:https://moov.ma/course/course-internationale-de-10-km-dchira-laayoune/
LOCATION:Laayoune\, Laayoune\, Laayoune\, Morocco
CATEGORIES:Courses 10km
ATTACH;FMTTYPE=image/png:https://moov.ma/wp-content/uploads/2025/07/laayoune.png
END:VEVENT
BEGIN:VEVENT
DTSTART;VALUE=DATE:20250727
DTEND;VALUE=DATE:20250728
DTSTAMP:20260420T141140
CREATED:20250714T172829Z
LAST-MODIFIED:20250714T201905Z
UID:10000070-1753574400-1753660799@moov.ma
SUMMARY:1e édition du Trail Senhaja
DESCRIPTION: À l’occasion du 26ᵉ anniversaire de la Fête du Trône\, Senhaja se prépare à célébrer l’événement d’une manière sportive et unique ! 1ʳᵉ édition du Trail Senhaja  — une aventure qui allie sport\, nature et amour du Maroc  Dimanche 27 Juillet 2025 Des paysages à couper le souffle\, une ambiance conviviale et l’esprit de défi au cœur des montagnes de Senhaja ! Les inscriptions sont ouvertes sur notre site : www.rbmsports.com RBM SPORTS\, votre partenaire fidèle pour les événements sportifs Rejoignez-nous et soyez prêts sur la ligne de départ ! \nScreenshot
URL:https://moov.ma/course/1e-edition-du-trail-senhaja/
LOCATION:Taounate\, Taounate\, Morocco
CATEGORIES:Trails
ATTACH;FMTTYPE=image/jpeg:https://moov.ma/wp-content/uploads/2025/07/senhaja.jpg
END:VEVENT
BEGIN:VEVENT
DTSTART;TZID=Africa/Casablanca:20250804T202048
DTEND;TZID=Africa/Casablanca:20250804T202048
DTSTAMP:20260420T141140
CREATED:20250804T191943Z
LAST-MODIFIED:20250804T192048Z
UID:10000072-1754338848-1754338848@moov.ma
SUMMARY:10KM by WeCasablanca
DESCRIPTION:Casablanca entre résolument dans la cour des grandes capitales du running international avec le WeCasablanca International Challenge.Plus qu’une simple course\, cet événement incarne une vision : faire de la métropole un terrain d’expression sportive\, de rassemblement populaire et de dépassement de soi. \nPensé comme un moteur de démocratisation du sport urbain\, le 10KM by WeCasablanca s’impose comme un rendez-vous incontournable pour tous les passionnés de course à pied — du coureur amateur au compétiteur de haut niveau. \nLe parcours offre une immersion unique au cœur de la ville : départ au pied des Twin-Center (Bd Zerktouni)\, passage par les boulevards d’Anfa\, My Youssef\, Sidi Mohamed Ben Abdellah\, et la Corniche\, dans une ambiance festive et fédératrice. \nInformations pratiques \n\nInscriptions individuelles et groupes via l’organisateur\nT-shirt officiel et dossard inclus dans le pack coureur\nRavitaillement sur le parcours et à l’arrivée\nChronométrage officiel\n\nParcours détaillé – 10KM by WeCasablanca \n\nDépart : au pied des Twin-Center sur le boulevard Zerktouni\nContinuer tout droit puis\, au boulevard d’Anfa\, tourner à droite (premier virage à 580 m de la ligne de départ)\nPoursuivre sur le boulevard d’Anfa\, puis tourner à gauche sur le boulevard My Youssef\nContinuer jusqu’au rond-point de la Mosquée Hassan II et tourner à gauche\nSuivre le boulevard Sidi Mohamed Ben Abdellah\, puis le boulevard de la Corniche\nAu croisement avec l’avenue Tantan\, tourner à gauche\nAu croisement avec l’avenue du Docteur Mohamed Sijilmassi\, tourner à droite\nAu croisement avec l’avenue de Nice\, tourner à droite\nAu croisement avec le boulevard Driss Slaoui\, tourner à gauche\nAu croisement avec le boulevard Franklin Roosevelt\, tourner à gauche\nAu croisement avec le boulevard Abdellatif Benkaddour\, tourner à gauche\nAu croisement avec la rue Ain Harrouda\, tourner à droite\nAu croisement avec le boulevard d’Anfa\, tourner à gauche\nTerminer en tournant à droite sur le boulevard Zerktouni vers la ligne d’arrivée\n\nInscriptions \nSur ce lien : casaticketing.ma
URL:https://moov.ma/course/10km-by-wecasablanca/
LOCATION:Casablanca\, Casablanca\, Casablanca\, Morocco
CATEGORIES:Courses 10km
ATTACH;FMTTYPE=image/png:https://moov.ma/wp-content/uploads/2025/08/casawe.png
END:VEVENT
BEGIN:VEVENT
DTSTART;VALUE=DATE:20250914
DTEND;VALUE=DATE:20250915
DTSTAMP:20260420T141140
CREATED:20250621T151344Z
LAST-MODIFIED:20250621T151344Z
UID:10000065-1757808000-1757894399@moov.ma
SUMMARY:Les foulées solidaires – 2ᵉ édition
DESCRIPTION:Le Maroc Mouvement Septembre en Or (MMSOR) vous invite à participer à la 2ᵉ édition des Foulées Solidaires\, une course engagée de 5 km et 10 km\, organisée en soutien aux enfants atteints de cancer\, au profit de l’association Noujoum. \n📅 Date : Dimanche 14 septembre 2025📍 Lieu : Dar Bouazza (Casablanca)🎽 Distances : 5 km ou 10 km🎟️ Inscriptions : sur ce lien \nCet événement solidaire est bien plus qu’une simple course : c’est un acte d’espoir\, une mobilisation collective pour illuminer le combat des enfants contre la maladie. \n🙌 Rejoignez le mouvement\, courez pour une cause\, et faites briller l’espoir ! \n🔗 Réseaux sociaux :Instagram : @maroc_mouvement_septembre_orLinkedIn : Maroc Mouvement Septembre en Or
URL:https://moov.ma/course/les-foulees-solidaires-2%e1%b5%89-edition/
LOCATION:Dar Bouazza\, Oued Merzeg\, Dar Bouazza\, Casablanca\, Morocco
CATEGORIES:Courses 10km
ATTACH;FMTTYPE=image/jpeg:https://moov.ma/wp-content/uploads/2025/06/mmsor.jpeg
END:VEVENT
BEGIN:VEVENT
DTSTART;TZID=Africa/Casablanca:20250921T080000
DTEND;TZID=Africa/Casablanca:20250921T170000
DTSTAMP:20260420T141140
CREATED:20250921T211013Z
LAST-MODIFIED:20250921T211013Z
UID:10000080-1758441600-1758474000@moov.ma
SUMMARY:Eco Trail Morocco 2025 – Ouarzazate
DESCRIPTION:Partez pour une aventure unique au cœur des oasis et des décors emblématiques de Ouarzazate\, la « porte du désert ».Deux formats au choix : \n\n70 km en 3 étapes\n30 km en 3 étapes (3 x 10 km)\n\n🏃‍♂️ Programme\n\n21 octobre : accueil\, remise des dossards\, briefing et soirée d’ouverture.\n22 octobre : Étape 1 – 20 km / 10 km.\n23 octobre : Étape 2 – 24 km / 10 km.\n24 octobre : Étape 3 – 26 km / 10 km.\n25 octobre : clôture et départ des participants.\n\nChaque journée alterne course\, immersion culturelle et soirées folkloriques pour une expérience sportive et humaine inoubliable. \n💵 Tarifs : selon pack choisi (inclut hébergement en pension complète et animations).📞 Infos & inscription : ecotrailmorocco.com
URL:https://moov.ma/course/eco-trail-morocco-2025-ouarzazate/
LOCATION:Ouarzazate\, Ouarzazate\, Ouarzazate\, Morocco
CATEGORIES:Trails
ATTACH;FMTTYPE=image/jpeg:https://moov.ma/wp-content/uploads/2025/09/ecotrail.jpg
END:VEVENT
BEGIN:VEVENT
DTSTART;VALUE=DATE:20251003
DTEND;VALUE=DATE:20251007
DTSTAMP:20260420T141140
CREATED:20250921T191032Z
LAST-MODIFIED:20250921T191032Z
UID:10000073-1759449600-1759795199@moov.ma
SUMMARY:Race Desert Morocco - 8ème édition
DESCRIPTION:La Race Desert Morocco est une course à étapes unique organisée entre Erfoud et les dunes de Merzouga\, du 2 au 6 octobre 2025. Créée par Karim Mosta et portée par l’association Marathon Moulay Abdellah\, elle propose 100 km en 3 étapes (45 km\, 35 km et 20 km) en semi-autosuffisance alimentaire. \nOuverte aux coureurs comme aux marcheurs\, l’épreuve associe performance sportive et aventure humaine au cœur du Sahara marocain. Chaque participant doit porter son matériel obligatoire (réserves alimentaires\, eau\, trousse de secours\, lampe frontale…)\, tandis que l’organisation assure la logistique\, le bivouac et la sécurité. \nL’expérience est conçue comme une immersion totale : bivouac sous les étoiles\, traversée des dunes\, gestion de l’effort et de l’autonomie. Au-delà de la compétition\, la RDM est un défi personnel et collectif\, où la solidarité et le respect de l’environnement sont au centre.
URL:https://moov.ma/course/race-desert-morocco-8eme-edition/
LOCATION:Merzouga\, Merzouga\, Merzouga\, Morocco
CATEGORIES:Trails
ATTACH;FMTTYPE=image/jpeg:https://moov.ma/wp-content/uploads/2025/09/rdm.jpg
END:VEVENT
BEGIN:VEVENT
DTSTART;VALUE=DATE:20251005
DTEND;VALUE=DATE:20251006
DTSTAMP:20260420T141140
CREATED:20250921T201503Z
LAST-MODIFIED:20250921T201604Z
UID:10000076-1759622400-1759708799@moov.ma
SUMMARY:Trail Kandar Sidi Khiar 2025
DESCRIPTION:Rendez-vous le dimanche 5 octobre 2025 pour une immersion au cœur de la nature dans la région Fès-Meknès. Le Trail Kandar Sidi Khiar vous propose un parcours authentique entre montagnes\, sentiers et panoramas spectaculaires. \nDistances\n\n25 km Trail : parcours exigeant pour les coureurs en quête de sensations fortes\n12 km Course & Randonnée : accessible à toutes et tous\, dans une ambiance conviviale\n\nProgramme\n\n07h00 – 07h45 : accueil & animations\n08h00 : départ des deux parcours\n11h00 – 13h00 : arrivées & remise des médailles\n13h00 : clôture festive\n\nTarifs\n\nPack Standard : 200 DH\nPack Premium : 300 DH (inclut petit-déjeuner ☕)\n\nInclus\n\nDossard personnalisé (avant le 1er octobre)\nMédaille finisher\nT-shirt technique\nSac sportif\nRavitaillements sur le parcours\n\nInfos pratiques\n\n📍 Lieu : Kandar Sidi Khiar\, Province de Sefrou – Région Fès-Meknès\n📅 Date : 5 octobre 2025\n🕗 Départ : 08h00\nÂge : à partir de 14 ans\nOrganisation : Association Dila Athlétique Fès
URL:https://moov.ma/course/trail-kandar-sidi-khiar-2025/
LOCATION:Kandar Sidi Khiar\, Kandar Sidi Khiar\, Morocco
CATEGORIES:Trails
ATTACH;FMTTYPE=image/png:https://moov.ma/wp-content/uploads/2025/09/Affiche_slider_trail.avatar_desktop.png
END:VEVENT
BEGIN:VEVENT
DTSTART;TZID=Africa/Casablanca:20251005T080000
DTEND;TZID=Africa/Casablanca:20251005T130000
DTSTAMP:20260420T141140
CREATED:20250921T191646Z
LAST-MODIFIED:20250921T191826Z
UID:10000074-1759651200-1759669200@moov.ma
SUMMARY:Green Run 2025
DESCRIPTION:La Green Run revient le dimanche 5 octobre 2025 dans la forêt de Dar Essalam à Rabat. \nTrois distances sont proposées : \n\n10 km – accessible et dynamique\n15 km – équilibre vitesse & endurance\n21 km – pour les plus endurants\n\nProgramme : \n\n08h00 : accueil\, ouverture du village & échauffement\n08h30 : départ de la course\n12h00 : remise des prix & clôture\n\nAu programme : un village d’animations sportives et ludiques\, défis interactifs\, espace détente et activités pour petits et grands. \nInfos pratiques : \n\nDate : 5 octobre 2025\nLieu : Forêt de Dar Essalam\, Rabat\nDépart : 08h30\nTarif unique : 100 DHS (inclut dossard + médaille finisher)\nOrganisateur : GC Sports\nContact : +212 645 30 43 19 – contact@gcsports.ma\nSite officiel & inscriptions : greenchallenge.ma
URL:https://moov.ma/course/green-run-2025/
LOCATION:Rabat\, Rabat\, Rabat\, Morocco
CATEGORIES:Courses 10km,Semi-marathons
ATTACH;FMTTYPE=image/jpeg:https://moov.ma/wp-content/uploads/2025/09/green-run.jpg
END:VEVENT
BEGIN:VEVENT
DTSTART;TZID=Africa/Casablanca:20251005T083000
DTEND;TZID=Africa/Casablanca:20251005T083000
DTSTAMP:20260420T141140
CREATED:20250921T200136Z
LAST-MODIFIED:20250921T200207Z
UID:10000075-1759653000-1759653000@moov.ma
SUMMARY:La Kéchoise - 5ème édition
DESCRIPTION:La Kéchoise revient pour sa 5ᵉ édition le dimanche 5 octobre 2025 à Marrakech. Course 100% féminine\, elle met à l’honneur le sport\, la solidarité et l’engagement des femmes marocaines. \nOrganisée par l’Association La Kéchoise en partenariat avec l’Association du Grand Atlas (placée sous le Haut Patronage de SM le Roi Mohammed VI)\, l’événement combine sport\, culture et festivités. \nProgramme 2025\n\nVillage partenaires : du 2 octobre (21h) au 5 octobre (8h)\, place Koutoubia\nSoirée de lancement : 3 octobre\, dîner-spectacle à La Bohème (désert d’Agafay)\nCourse : dimanche 5 octobre – départ à 08h30 de Jemaa el-Fna → arrivée place des Épices\n\nCourse\n\nDistance : 7 km\nParcours à travers les lieux emblématiques de Marrakech (Jemaa el-Fna → Place des Ferblantiers)\nOuverte à toutes les femmes\, dans une ambiance festive et conviviale\n\nÉdition 2025\n\nMarraine : Manal Benchlikha\, artiste marocaine de renom engagée pour la voix des femmes\nObjectif : faire de chaque pas un symbole de solidarité et d’émancipation féminine\nExpérience unique mêlant course\, culture et découverte au cœur de Marrakech\n\nInfos pratiques\n\n📍 Marrakech (départ Jemaa el-Fna\, arrivée Place des Épices)\n📅 Date : 5 octobre 2025\n🕗 Départ : 08h30\n📏 Distance : 7 km\n🎉 Activités annexes : village partenaires\, soirée de lancement\, animations culturelles\nSite officiel & inscriptions : lakechoise.com
URL:https://moov.ma/course/la-kechoise-5e-edition/
LOCATION:Marrakech\, Marrakech\, Morocco
CATEGORIES:Courses 10km
ATTACH;FMTTYPE=image/jpeg:https://moov.ma/wp-content/uploads/2025/09/kechoise.jpg
END:VEVENT
END:VCALENDAR