BEGIN:VCALENDAR
VERSION:2.0
PRODID:-//MOOV.MA - ECPv6.10.1.1//NONSGML v1.0//EN
CALSCALE:GREGORIAN
METHOD:PUBLISH
X-ORIGINAL-URL:https://moov.ma
X-WR-CALDESC:Évènements pour MOOV.MA
REFRESH-INTERVAL;VALUE=DURATION:PT1H
X-Robots-Tag:noindex
X-PUBLISHED-TTL:PT1H
BEGIN:VTIMEZONE
TZID:Africa/Casablanca
BEGIN:DAYLIGHT
TZOFFSETFROM:+0100
TZOFFSETTO:+0000
TZNAME:+00
DTSTART:20250223T020000
END:DAYLIGHT
BEGIN:STANDARD
TZOFFSETFROM:+0000
TZOFFSETTO:+0100
TZNAME:+01
DTSTART:20250406T020000
END:STANDARD
END:VTIMEZONE
BEGIN:VEVENT
DTSTART;VALUE=DATE:20250429
DTEND;VALUE=DATE:20250505
DTSTAMP:20260420T074924
CREATED:20241125T152632Z
LAST-MODIFIED:20241127T180926Z
UID:10000028-1745884800-1746403199@moov.ma
SUMMARY:3ème édition du Raid Med by Saidia Resorts
DESCRIPTION:Préparez-vous à relever un challenge unique et exaltant ! \n\n\n\n\n\n\n\n\n\n\nDu 29 avril au 4 mai 2025\, embarquez pour un défi palpitant de quatre jours en équipe de deux. Participez à six activités sportives excitantes : Trail\, Course d’Orientation\, VTT\, Run & Bike\, Canoë\, et une Opération Environnement. \nChaque binôme s’affrontera dans des épreuves stimulantes\, alliant performance et esprit d’équipe\, tout en portant une cause sociale importante. Préparez-vous à vous surpasser et à vivre l’adrénaline de la compétition. \nNe manquez pas cette opportunité de faire la différence tout en vous amusant !
URL:https://moov.ma/course/3eme-edition-du-raid-med-by-saidia-resorts/
LOCATION:Saidia\, Saidia Resorts\, Saidia\, Morocco
CATEGORIES:Raid
ATTACH;FMTTYPE=image/jpeg:https://moov.ma/wp-content/uploads/2024/11/80E1E5CA-BEBF-4A7B-AB5D-1CBDB86ED1BC.jpg
END:VEVENT
BEGIN:VEVENT
DTSTART;VALUE=DATE:20250503
DTEND;VALUE=DATE:20250505
DTSTAMP:20260420T074924
CREATED:20241127T152832Z
LAST-MODIFIED:20241127T153650Z
UID:10000029-1746230400-1746403199@moov.ma
SUMMARY:High Atlas Ultra Trail® 2025
DESCRIPTION:Le Toit de l’Afrique du Nord… Les somptueux paysages du Haut Atlas Marocain. Le parc le plus varié avec une morphologie attrayante et unique… Des falaises\, un lac\, des cascades\, des gorges\, des crêtes\, des cours d’eau\, des pics escarpés et des descentes techniques… Beau\, Sauvage\, technique et exigent tel est le HAUT. \n \n  \nHAUT 120\nDistance 120 Km\, Dénivelé positif de 6400 m et Dénivelé négatif de 7000 m Altitude Min 1000 m Altitude max 3000 m.\nLe départ de HAUT®120 sera à 04:00 du 03 Mai 2025\, au centre du village d’imlil en direction de ikkis\, Tacheddirt\, Tamteret puis Armed pour faire l’ascension de Tizi N Tizekert et passage aux cascades Ighouliden\, puis direction Tizzi Oussem\, Tekenet\, Assif Zagzawen\, Tiziyan Marigha et la ligne d’arrivée à Ouirgane. \nHAUT 80\nDistance 80 Km\, Dénivelé positif de 4500 m et Dénivelé négatif de 4 800 m Altitude Min 1000 m Altitude max 3000 m.\nLe départ de HAUT®80 sera à 04:00 du 03 Mai 2025\, au centre du village d’imlil en direction de Tamteret puis Armed pour faire l’ascension de Tizi N Tizekert et passage aux cascades Ighouliden\, puis direction Tizzi Oussem\, Tekenet\, Assif Zagzawen\, Tiziyan Marigha et la ligne d’arrivée à Ouirgane. \nHAUT 42\nDistance 45Km\, Dénivelé positif de 2300 m et Dénivelé négatif de 3000m Altitude Min 1000 m Altitude max 2800m.\nLe départ de HAUT®42 sera à 07:00 du 03 Mai 2025 au centre de village de Imlil en direction de Tizzi Oussem en passant par le col Tizzi n Mazzik puis direction Tekenet\, Assif Zagzawen\, Tikhfisst et la ligne d’arrivée à Ouirgane. \nHAUT 21\nDistance 21 Km\, Dénivelé positif de 1 000m et Dénivelé négatif de 1 000m Altitude Min 1 000 m Altitude max 1 500m.\nLe départ de HAUT®21 sera à 08:00 du 04 Mai 2025 à Ouirgane en boucle en passant par Marigha\, Tassa Ouirgane et Tikhfisst. \n  \nCHALLENGE HAUT\nOffrez vous un challenge ou un week-end choc dans cette course à deux étapes cumulant le HAUT 42 et le HAUT 21.\nDistance cumulée 66 Km\, Dénivelé positif de 3300m et Dénivelé négatif de 4000m Altitude Min 1 000 m Altitude max 2800m.\nLe départ du Challenge HAUT sera à 07:00 du 04 Mai 2025 au centre du village de Imlil. \n  \nHAUT 10\nDistance 10Km\, Dénivelé positif de 500m et Dénivelé négatif de 500m Altitude Min 1 000 m Altitude max 1320m. A faire soit en trail soit en randonnées.\nLe départ de HAUT®10 sera à 09:00 du 04 Mai 2025 à Ouirgane en boucle en passant par Marigha. \n 
URL:https://moov.ma/course/high-atlas-ultra-trail-2025/
LOCATION:Toubkal\, Parc National Toubkal\, Haut Atlas\, Morocco
CATEGORIES:Trails
ATTACH;FMTTYPE=image/jpeg:https://moov.ma/wp-content/uploads/2024/11/haut-25.jpg
END:VEVENT
BEGIN:VEVENT
DTSTART;VALUE=DATE:20250511
DTEND;VALUE=DATE:20250512
DTSTAMP:20260420T074924
CREATED:20241205T214748Z
LAST-MODIFIED:20241205T214748Z
UID:10000036-1746921600-1747007999@moov.ma
SUMMARY:15km de Bouskoura
DESCRIPTION:🎉 La course des 15 km de Bouskoura revient pour sa 11ᵉ édition avec une grande nouveauté ! 🎉 \nCette année\, on ouvre la voie à encore plus de coureurs en proposant deux formats :\n➡️ 10 km\, pour les nouveaux défis ou un moment sportif plus accessible.\n➡️ 15 km\, pour les habitués qui aiment la distance classique. \nUn parcours au cœur de la nature\, une ambiance festive et un esprit de communauté toujours au rendez-vous. 🌿🏃‍♂️ \nRendez-vous le 11 Mai 2025 pour une journée sportive et conviviale qui célèbre tous les runners\, quel que soit leur niveau.
URL:https://moov.ma/course/15km-de-bouskoura/
LOCATION:Bouskoura\, Foret de Bouskoura\, Casablanca\, Morocco
CATEGORIES:Courses 10km
ATTACH;FMTTYPE=image/jpeg:https://moov.ma/wp-content/uploads/2024/12/bouskoura.jpg
END:VEVENT
BEGIN:VEVENT
DTSTART;VALUE=DATE:20250516
DTEND;VALUE=DATE:20250519
DTSTAMP:20260420T074924
CREATED:20241117T125152Z
LAST-MODIFIED:20241117T125152Z
UID:10000020-1747353600-1747612799@moov.ma
SUMMARY:8ème édition Itzer Trail - Itzer
DESCRIPTION:L’Itzer Trail est un événement sportif annuel organisé par l’Association des Initiatives des Jeunes d’Itzer (ASSIJI) dans la région du Moyen Atlas\, au Maroc. Cette course allie sport et solidarité\, offrant aux participants l’opportunité de découvrir des paysages variés tout en contribuant à des actions sociales locales. \nParcours et distances : L’Itzer Trail propose plusieurs distances adaptées à différents niveaux : \n\n100 km en trois étapes : 44 km\, 35 km et 21 km.\n56 km en deux étapes : 35 km et 21 km.\n21 km et 10 km pour les coureurs souhaitant des distances plus courtes.\n\nLes parcours traversent des lacs\, des montagnes culminant entre 2 000 et 2 500 mètres d’altitude\, ainsi que des forêts de chênes et de cèdres couvrant plus de 20 hectares. \nDates et lieux : L’événement se tient deux fois par an : \n\nÉdition printanière : le troisième week-end de mai à Itzer.\nÉdition hivernale : le troisième week-end de novembre au lac Sidi Ali.\n\nPar exemple\, la 7ᵉ édition est prévue les 16 et 17 novembre 2024 au lac Sidi Ali. \nObjectifs solidaires : L’Itzer Trail est une course 100% solidaire. Les recettes de l’événement sont entièrement reversées pour financer des actions sociales\, éducatives et sportives au profit des habitants d’Itzer. Parmi les initiatives soutenues figure l’action « Hiver Chaud »\, qui vise à fournir des vêtements neufs d’hiver à des élèves de la région. \nParticipation et organisation : L’événement attire environ 300 participants\, tant amateurs que professionnels. Une attention particulière est portée à la participation féminine\, avec un objectif d’au moins 20% de femmes\, et à l’inclusion des habitants locaux\, représentant au moins 10% des coureurs. \nInformations pratiques :\n\nInscriptions : Les détails et formulaires d’inscription sont disponibles sur le site officiel de l’ASSIJI.\nRetrait des dossards : Au complexe sportif et culturel d’Itzer.\nRavitaillements : Prévus en nombre variable selon les distances.\nConditions météorologiques : Températures variant entre 5° la nuit et 15° le jour en novembre.\n\nPour plus d’informations\, consultez le site officiel de l’ASSIJI.
URL:https://moov.ma/course/8eme-edition-itzer-trail-itzer/
LOCATION:Itzer\, Itzer\, Itzer\, Morocco
CATEGORIES:Trails
ATTACH;FMTTYPE=image/jpeg:https://moov.ma/wp-content/uploads/2024/11/itzer-mai.jpeg
ORGANIZER;CN="Association des Initiatives des Jeunes d%E2%80%99Itzer":MAILTO:contact@itzer.net
END:VEVENT
BEGIN:VEVENT
DTSTART;VALUE=DATE:20250516
DTEND;VALUE=DATE:20250519
DTSTAMP:20260420T074924
CREATED:20250113T151300Z
LAST-MODIFIED:20250113T151743Z
UID:10000039-1747353600-1747612799@moov.ma
SUMMARY:TRAIL DES CEDRES D'IFRANE - 16EME EDITION
DESCRIPTION:Sous l’égide de La Fédération Royale Marocaine de ski et montagne\, l’association sport et nature et la province d’Ifrane en collaboration avec le Conseil provincial de tourisme d’Ifrane\, le Conseil Provincial d’Ifrane et la Commune d’Ifrane organisent du 16 au 18 Mai 2025\, la 16ème édition du Trail des cèdres. \nLa région d’Ifrane\nNichée dans les montagnes du Moyen Atlas\, Ifrane pourrait être comparée à une petite ville suisse\, avec ses rues et jardins soigneusement entretenus\, prêts à recevoir la neige de l’hiver. C’est dans cette région que se trouve l’une des plus grandes et plus belles cédraies du monde d’où jaillissent de nombreuses sources et cours d’eau. \nC’est ce cadre et son climat qui lui ont permis d’être non seulement un pôle touristique de prédilection pour les randonneurs mais aussi le lieu idéal pour la pratique de certains sports. De nombreux athlètes de renommée internationale viennent s’entraîner et s’y former. Ainsi\, Ifrane a vu passer Khalid Boulami\, Khalid Skah\, Brahim Lahlafi\, Abdelkader El Mouaziz\, Abderrahim El Goumri\, Jaouad Gharib\, entre autres. \nD’autres athlètes du monde entier y séjournent également pour leurs entraînements. La Fédération Française d’Athlétisme y organise régulièrement des stages pour ses meilleurs semi-fondeurs et fondeurs français\, les préparant ainsi aux grandes compétitions internationales. L’académie Mohamed VI d’Ifrane\, gérée par la Fédération Royale Marocaine d’Athlétisme\, prépare des athlètes de haut niveau aux grandes compétitions internationales tels que les Jeux Olympiques ou championnats du monde. \nAss. Sport & Nature\nDepuis sa création par Abdelkader El Mouaziz\, l’ASN a eu le temps de se faire un nom\, mais elle gagnerait à être encore plus connue. Car l’Association Sports et Nature\, c’est plus de 500 athletes transportés du quatre coins du monde pour organiser le Trail des cèdres. Une association à but non lucratif qui crée du lien et qui cherche à enrichir son offre pour toujours mieux servir les coureurs.
URL:https://moov.ma/course/trail-des-cedres-difrane-16eme-edition/
LOCATION:Ifrane\, Park Ras Elma\, Ifrane\, Morocco
CATEGORIES:Trails
ATTACH;FMTTYPE=image/jpeg:https://moov.ma/wp-content/uploads/2025/01/ifrane.jpg
END:VEVENT
BEGIN:VEVENT
DTSTART;TZID=Africa/Casablanca:20250524T180000
DTEND;TZID=Africa/Casablanca:20250524T180000
DTSTAMP:20260420T074924
CREATED:20250308T110645Z
LAST-MODIFIED:20250308T111131Z
UID:10000042-1748109600-1748109600@moov.ma
SUMMARY:MOROCCO TRAIL RACE "NIGHT EDITION" 2025
DESCRIPTION:L’association Multi Social Challenge est fière d’annoncer la nouvelle édition de la MOROCCO TRAIL RACE « NIGHT EDITION » 2025\, une course unique qui se déroule sous les étoiles\, dans le cadre spectaculaire des Terres d’Amanar\, à seulement 30 minutes de Marrakech. \nUne Expérience de Trail Inédite\nLa MOROCCO TRAIL RACE « NIGHT EDITION » est une épreuve privée\, offrant une aventure immersive en pleine nature. Avec des parcours de 30 km\, 20 km\, 10 km et 5 km\, cette course nocturne propose une expérience inoubliable\, où les coureurs évolueront à la lumière de leurs lampes frontales\, guidés par les sentiers montagneux et les vallées secrètes de l’Atlas. \nUn Cadre Magique et Dépaysant\nLes Terres d’Amanar\, situées aux portes du Haut Atlas\, offrent un terrain de jeu exceptionnel pour les passionnés de trail. Ce site naturel préservé garantit un environnement propice à la performance et à l’émerveillement\, avec des panoramas époustouflants et une vue imprenable sur Marrakech illuminée. \nProgramme de la Journée: SAMEDI 24 MAI 2024\n🕙 10h00 – 15h00 : Retrait des dossards (aucune inscription sur place)\n🔥 18h00 : Départ du Trail 30 km\n🔥 18h30 : Départ du Trail 20 km\n🔥 19h00 : Départ du Trail 10 km\n🔥 19h30 : Départ du Trail 5 km \nUn Engagement pour le Sport et la Nature\nAu-delà du défi sportif\, la MOROCCO TRAIL RACE « NIGHT EDITION » met un point d’honneur à promouvoir des valeurs de respect de l’environnement\, d’inclusion et de solidarité\, en lien avec la mission de l’association Multi Social Challenge. \n📩 Informations & Inscriptions : info@moroccoallraces.com\n🌐 Site web : www.moroccoallraces.com \nRejoignez-nous pour une expérience unique\, où aventure\, sport et nature se rencontrent sous le ciel étoilé du Maroc ! 🌙🏃‍♂️✨ \nInscription
URL:https://moov.ma/course/morocco-trail-race-night-edition/
LOCATION:Terres d’Amanar\, Douar Akli\, Tahannaout\, Marrakech\, 42300
CATEGORIES:Trails
ATTACH;FMTTYPE=image/jpeg:https://moov.ma/wp-content/uploads/2025/03/flyers-mtr2025.jpeg
END:VEVENT
BEGIN:VEVENT
DTSTART;TZID=Africa/Casablanca:20250525T090000
DTEND;TZID=Africa/Casablanca:20250525T090000
DTSTAMP:20260420T074924
CREATED:20250323T122547Z
LAST-MODIFIED:20250323T122647Z
UID:10000051-1748163600-1748163600@moov.ma
SUMMARY:Course Nature Forêt Dar Essalam
DESCRIPTION:
URL:https://moov.ma/course/course-nature-foret-dar-es-salam/
LOCATION:Foret Dar Essalam\, Forêt Dar Es Salam\, Rabat\, Morocco
CATEGORIES:Trails
ATTACH;FMTTYPE=image/jpeg:https://moov.ma/wp-content/uploads/2025/03/daressalam.jpg
END:VEVENT
END:VCALENDAR