BEGIN:VCALENDAR
VERSION:2.0
PRODID:-//MOOV.MA - ECPv6.10.1.1//NONSGML v1.0//EN
CALSCALE:GREGORIAN
METHOD:PUBLISH
X-WR-CALNAME:MOOV.MA
X-ORIGINAL-URL:https://moov.ma
X-WR-CALDESC:Évènements pour MOOV.MA
REFRESH-INTERVAL;VALUE=DURATION:PT1H
X-Robots-Tag:noindex
X-PUBLISHED-TTL:PT1H
BEGIN:VTIMEZONE
TZID:Africa/Casablanca
BEGIN:DAYLIGHT
TZOFFSETFROM:+0100
TZOFFSETTO:+0000
TZNAME:+00
DTSTART:20250223T020000
END:DAYLIGHT
BEGIN:STANDARD
TZOFFSETFROM:+0000
TZOFFSETTO:+0100
TZNAME:+01
DTSTART:20250406T020000
END:STANDARD
END:VTIMEZONE
BEGIN:VEVENT
DTSTART;VALUE=DATE:20251101
DTEND;VALUE=DATE:20251109
DTSTAMP:20260419T231048
CREATED:20250923T201138Z
LAST-MODIFIED:20250923T201138Z
UID:10000082-1761955200-1762646399@moov.ma
SUMMARY:Sahara Trail 2025 – Zagora
DESCRIPTION:Plongez dans l’une des expériences les plus authentiques du désert marocain avec le Sahara Trail\, une aventure sportive et humaine unique en 3 étapes chronométrées + 1 étape de solidarité au cœur des dunes. \nDistances & Étapes\n\nÉtape 1 : 25 km\nÉtape 2 : 52 km\nÉtape 3 : 28 km\nÉtape solidaire : immersion dans les dunes d’Erg Chegaga\n\nExpérience\n👉 Découverte de la vallée du Drâa\, kasbahs\, oasis et traditions sahraouies👉 Nuitées en riads et bivouacs de luxe👉 Animations musicales et culturelles \nConditions\n\n+18 ans (ou +16 ans avec autorisation parentale)\nCertificat médical obligatoire (< 3 mois)\nSemi-autonomie : ravitaillement liquide fourni\, solide à l’arrivée\n\n💵 Tarif : 1450 € tout inclus (hébergement\, transferts\, repas hors déjeuners de course)📞 Infos & inscription : lakasbahduchampion.com \nUne véritable immersion sportive\, culturelle et humaine dans le désert marocain 🌅.
URL:https://moov.ma/course/sahara-trail-2025-zagora/
LOCATION:Zagora\, Zagora\, Zagora\, Morocco
CATEGORIES:Trails
ATTACH;FMTTYPE=image/jpeg:https://moov.ma/wp-content/uploads/2025/09/sahara-trail-zagora.jpg
END:VEVENT
BEGIN:VEVENT
DTSTART;VALUE=DATE:20251115
DTEND;VALUE=DATE:20251117
DTSTAMP:20260419T231048
CREATED:20241101T090744Z
LAST-MODIFIED:20250923T203437Z
UID:10000009-1763164800-1763337599@moov.ma
SUMMARY:Itzer Trail Lac Sidi Ali
DESCRIPTION:Itzer est un village atypique du moyen atlas de la province de Midelt\, connu pour ses paysages naturels\, ses traditions et son artisanat. En 2019\, une centaine de jeunes natifs de la région créent ASSIJI – l’Association des Initiatives des Jeunes d’Itzer – qui a comme principal objectif : contribuer au développement économique et social de la région. \nDans le cadre de sa stratégie de promotion de la région et de diversifier ses sources de financement pour ses actions\, ASSIJI organise depuis 2021 : Itzer Trail\, la course 100% solidaire. 100% des recettes sont reversées pour financer des actions sociales\, éducatives et sportives. Itzer Trail est une course organisée en pleine nature\, entre lacs\, montagnes et forêt. Un événement pas comme les autres avec un minimum de 20% de participation féminine et 10% de participants natifs ou habitants de la région. \nItzer Trail est un événement organisé par et pour les habitants d’Itzer\, respectueux de la nature et des Hommes\, parfaitement intégré dans son environnement : Lac Sidi Ali\, barrage Ait Lhaj\, montagnes de 2.000 à 2.500m d’altitude et la forêt du chêne et du cèdre qui couvre plus de 20 hectares. \nInscription
URL:https://moov.ma/course/itzer-trail-lac-sidi-ali/
LOCATION:Lac Sidi Ali\, Lac Sidi Ali\, Moyen Atlas\, Aguelmame Sidi Ali\, Morocco
CATEGORIES:Trails
ATTACH;FMTTYPE=image/png:https://moov.ma/wp-content/uploads/2024/11/9eme-itzer-trail-1.png
ORGANIZER;CN="Association des Initiatives des Jeunes d%E2%80%99Itzer":MAILTO:contact@itzer.net
END:VEVENT
BEGIN:VEVENT
DTSTART;VALUE=DATE:20251116
DTEND;VALUE=DATE:20251117
DTSTAMP:20260419T231048
CREATED:20241108T162852Z
LAST-MODIFIED:20251101T114256Z
UID:10000013-1763251200-1763337599@moov.ma
SUMMARY:Semi Marathon et 10km d'El Jadida
DESCRIPTION:L’Association Mazagan Marathon organise la 8ᵉ édition du Semi-marathon & 10 km d’El Jadida\, sous le thème « L’Afrique locomotive pour le développement du sport ». \nDistances proposées\n\nSemi-marathon (21\,1 km)\nCourse 10 km\n\nEsprit de l’événement\nCet événement sportif a pour objectif : \n\nde rassembler coureurs amateurs et professionnels autour d’une grande fête populaire\,\nde promouvoir la pratique sportive et l’activité physique auprès de la population\,\net de valoriser le patrimoine culturel et touristique de la ville d’El Jadida.\n\nLe sport de masse est aujourd’hui un véritable levier de promotion du tourisme et contribue au rayonnement d’El Jadida au Maroc et à l’international. \nInfos pratiques\n\n📅 Date : dimanche 16 novembre 2025\n📍 Lieu : El Jadida\nDistances : Semi-marathon (21\,1 km) & 10 km\nOrganisateur : Association Mazagan Marathon\nContact : mazaganmarathon@hotmail.com – +212 661 56 55 94\n🌐 Site officiel : mazaganmarathon.ma
URL:https://moov.ma/course/semi-marathon-et-10km-del-jadida/
LOCATION:El Jadida\, El Jadida\, El Jadida\, Morocco
CATEGORIES:Semi-marathons
ATTACH;FMTTYPE=image/jpeg:https://moov.ma/wp-content/uploads/2024/11/mm.jpg
END:VEVENT
BEGIN:VEVENT
DTSTART;VALUE=DATE:20251116
DTEND;VALUE=DATE:20251117
DTSTAMP:20260419T231048
CREATED:20250923T210540Z
LAST-MODIFIED:20250923T210540Z
UID:10000083-1763251200-1763337599@moov.ma
SUMMARY:Semi-marathon international Géoparc M’Goun d’Azilal – 2025
DESCRIPTION:La 4ᵉ édition du Semi-marathon international Géoparc M’Goun d’Azilal est organisée par l’Association Jeunesse Tameda Azilal pour l’Athlétisme\, en partenariat avec l’Association Géoparc M’Goun\, sous l’égide de la Fédération Royale Marocaine d’Athlétisme. \nCet événement s’inscrit dans le cadre de la fête de l’Indépendance et a pour objectif de promouvoir la pratique sportive\, dynamiser la région d’Azilal et valoriser le Géoparc M’Goun\, inscrit au patrimoine mondial de l’UNESCO. \nDistances proposées\n\n5 km (course populaire et jeunes)\n21 km – Semi-marathon\n\nProgramme\n\n10h30 : Départ officiel depuis la ville d’Azilal\nAnimations sportives et folkloriques tout au long de la journée\nRemise des prix et cérémonies festives\n\nInscriptions & infos\n📧 altaaazilal@gmail.com📞 +212 676 228 019 / +212 667 450 050 / +212 662 327 648 \nPoints forts\n\nParcours unique au cœur du Géoparc M’Goun\, entre montagnes\, vallées et cascades\nParticipation d’athlètes nationaux et internationaux\nUn rendez-vous sportif\, culturel et festif incontournable dans la région Béni Mellal-Khénifra
URL:https://moov.ma/course/semi-marathon-international-geoparc-mgoun-dazilal-2025/
LOCATION:Azilal\, Cascades Ouzoud\, Azilal\, Morocco
CATEGORIES:Semi-marathons
ATTACH;FMTTYPE=image/jpeg:https://moov.ma/wp-content/uploads/2025/09/azilal.jpg
END:VEVENT
BEGIN:VEVENT
DTSTART;VALUE=DATE:20251129
DTEND;VALUE=DATE:20251201
DTSTAMP:20260419T231048
CREATED:20241031T150135Z
LAST-MODIFIED:20250923T211745Z
UID:10000006-1764374400-1764547199@moov.ma
SUMMARY:Trail Desert d'Agafay
DESCRIPTION:Un rendez-vous sportif unique dans le désert de Marrakech \nLe Trail or Bike Marrakech Agafay revient pour une nouvelle édition les 29 et 30 novembre 2025\, offrant une expérience sportive et humaine exceptionnelle dans le somptueux désert d’Agafay\, à seulement quelques kilomètres au sud de Marrakech. \nDeux jours – deux disciplines\n\nSamedi 29 novembre : les épreuves VTTDeux parcours exigeants et spectaculaires de 30 km et 60 km permettent aux cyclistes\, amateurs comme confirmés\, de se mesurer aux reliefs variés et aux paysages minéraux de l’Agafay.\nDimanche 30 novembre : les trailsTrois distances au choix – 11 km\, 23 km et 42 km – permettent à chaque coureur de trouver le défi adapté à son niveau. Du coureur loisir au marathonien confirmé\, chacun vit une aventure immersive au cœur d’un désert aux couleurs changeantes.\nChallenge combiné Bike & Trail (81 km)Pour les plus audacieux\, un défi unique combine VTT et trail\, totalisant 81 km en deux jours.\n\nUn cadre exceptionnel\nLe désert d’Agafay\, connu comme le « désert de Marrakech »\, offre un terrain contrasté : plateaux caillouteux\, vallées verdoyantes\, villages amazighs et panoramas spectaculaires sur les montagnes de l’Atlas. L’événement met en valeur cette richesse naturelle et culturelle\, tout en sensibilisant à sa préservation. \nUne organisation engagée\nTrail Maroc s’inscrit dans une démarche écologique et responsable : \n\nactions de sensibilisation environnementale\,\ntri et recyclage des déchets\,\nmise en avant des initiatives locales\,\nimplication des communautés villageoises.\n\nL’événement n’est pas seulement une compétition sportive\, mais aussi une fête conviviale et solidaire\, où se rencontrent passionnés de course\, vététistes et amoureux de la nature. \nInformations pratiques\n\n📅 Dates : Samedi 29 et dimanche 30 novembre 2025\n📍 Lieu : Désert d’Agafay – Marrakech\n🏃‍♀️ Courses trail : 11 km – 23 km – 42 km\n🚴 Courses VTT : 30 km – 60 km\n🔗 Challenge combiné : Bike & Trail 81 km\n👥 Ouvert à tous : débutants\, confirmés\, en solo ou en groupe\n\nRejoignez cette aventure pour vivre un week-end sportif\, festif et durable au cœur d’un décor naturel unique.
URL:https://moov.ma/course/1878/
LOCATION:Agafay\, Desert d'Agafay\, Marrakech\, Morocco
CATEGORIES:Trails
ATTACH;FMTTYPE=image/jpeg:https://moov.ma/wp-content/uploads/2024/10/trail-desert-agafay.jpg
END:VEVENT
BEGIN:VEVENT
DTSTART;VALUE=DATE:20251130
DTEND;VALUE=DATE:20251201
DTSTAMP:20260419T231048
CREATED:20241030T152724Z
LAST-MODIFIED:20250726T170422Z
UID:10000001-1764460800-1764547199@moov.ma
SUMMARY:Darb Race
DESCRIPTION:Darb Race offre une occasion unique de courir au bord des plages magnifiques de Dar Bouazza\, en participant à une des courses proposées par l’organisation\, 10km ou 21km. Cette course est organisée le 2ème dimanche de chaque mois de décembre. \nDar Bouazza Race ambitionne de devenir une des plus importantes courses du Maroc. L’objectif est d’accueillir 10.000 participants en 2030. \nCette course\, partie de la plage Oued Merzegue vers les plages de Tamaris en passant par le petit port de Dar Bouazza\, offre un décor incomparable avec des animations musicales tout au long du parcours.. \nLe salon « Darb Race » situé au club O’Darb\, qui précède de 3 jours la course\, est un rendez-vous incontournable avec des professionnels de la course à pied. \nLa seconde édition de Darb Race aura lieu le Dimanche 30 Novembre 2025 à Dar Bouazza. \nInscriptions & informations détaillées sur https://darbevent.com
URL:https://moov.ma/course/darb-race/
LOCATION:Dar Bouazza\, Oued Merzeg\, Dar Bouazza\, Casablanca\, Morocco
CATEGORIES:Courses 10km,Semi-marathons
ATTACH;FMTTYPE=image/jpeg:https://moov.ma/wp-content/uploads/2024/10/darbevent2.jpg
END:VEVENT
END:VCALENDAR