BEGIN:VCALENDAR
VERSION:2.0
PRODID:-//MOOV.MA - ECPv6.10.1.1//NONSGML v1.0//EN
CALSCALE:GREGORIAN
METHOD:PUBLISH
X-ORIGINAL-URL:https://moov.ma
X-WR-CALDESC:Évènements pour MOOV.MA
REFRESH-INTERVAL;VALUE=DURATION:PT1H
X-Robots-Tag:noindex
X-PUBLISHED-TTL:PT1H
BEGIN:VTIMEZONE
TZID:Africa/Casablanca
BEGIN:DAYLIGHT
TZOFFSETFROM:+0100
TZOFFSETTO:+0000
TZNAME:+00
DTSTART:20250223T020000
END:DAYLIGHT
BEGIN:STANDARD
TZOFFSETFROM:+0000
TZOFFSETTO:+0100
TZNAME:+01
DTSTART:20250406T020000
END:STANDARD
END:VTIMEZONE
BEGIN:VEVENT
DTSTART;VALUE=DATE:20251207
DTEND;VALUE=DATE:20251208
DTSTAMP:20260420T003852
CREATED:20241205T212835Z
LAST-MODIFIED:20250923T212556Z
UID:10000034-1765065600-1765151999@moov.ma
SUMMARY:Semi-Marathon International de Tamensourt
DESCRIPTION:Rejoignez-nous pour la 3ème édition du Semi-Marathon International de Tamensourt\, un événement sportif incontournable qui s’adresse aussi bien aux amateurs qu’aux professionnels ! Date : Dimanche 7 Décembre Lieu : Tamensourt\, Des primes exceptionnelles vous attendent ! Des récompenses en argent et en nature pour les meilleurs temps dans chaque catégorie.Que vous soyez un coureur passionné ou un athlète de haut niveau\, cette course est l’occasion idéale de repousser vos limites et de vivre une expérience unique ! Inscription ouverte !\n Tous niveaux acceptés !\n Ambiance festive et familiale garantie !Ne manquez pas cet événement phare de la région ! 
URL:https://moov.ma/course/semi-marathon-international-de-tamensourt/
LOCATION:Tamensourt\, Al Omrane\, Tamansourt\, Morocco
CATEGORIES:Semi-marathons
ATTACH;FMTTYPE=image/jpeg:https://moov.ma/wp-content/uploads/2024/12/tamensourt-1.jpg
END:VEVENT
BEGIN:VEVENT
DTSTART;VALUE=DATE:20251213
DTEND;VALUE=DATE:20251215
DTSTAMP:20260420T003852
CREATED:20241108T104336Z
LAST-MODIFIED:20250923T212901Z
UID:10000012-1765584000-1765756799@moov.ma
SUMMARY:Casa Downtown Race
DESCRIPTION:Découvrez Casablanca comme jamais auparavant ​avec la CDR ! \nLes coureurs commenceront leur parcours animé sur ​la Place Nevada\, avant de passer devant l’élégante​ Église du Sacré-Cœur et du Twin Center. \nLe parcours les mènera ensuite à l’Esplanade de la ​Mosquée Hassan II\, un lieu impressionnant offrant ​une vue spectaculaire sur le monument. La course ​se poursuivra à travers la Nouvelle Marina\, avec ses ​bureaux modernes et ses espaces de vie ​sophistiqués. \nLes participants contourneront la médina\, en passant devant la Sqala et ses bazars animés et admireront la Coupole ​Zevaco avant de s’engager dans une ruelle pittoresque bordée par le tramway.
URL:https://moov.ma/course/casa-downtown-race/
LOCATION:Casablanca\, Casablanca\, Casablanca\, Morocco
CATEGORIES:Courses 10km
ATTACH;FMTTYPE=image/jpeg:https://moov.ma/wp-content/uploads/2024/11/cdr.jpg
END:VEVENT
END:VCALENDAR