BEGIN:VCALENDAR
VERSION:2.0
PRODID:-//MOOV.MA - ECPv6.10.1.1//NONSGML v1.0//EN
CALSCALE:GREGORIAN
METHOD:PUBLISH
X-WR-CALNAME:MOOV.MA
X-ORIGINAL-URL:https://moov.ma
X-WR-CALDESC:Évènements pour MOOV.MA
REFRESH-INTERVAL;VALUE=DURATION:PT1H
X-Robots-Tag:noindex
X-PUBLISHED-TTL:PT1H
BEGIN:VTIMEZONE
TZID:Africa/Casablanca
BEGIN:DAYLIGHT
TZOFFSETFROM:+0100
TZOFFSETTO:+0000
TZNAME:+00
DTSTART:20250223T020000
END:DAYLIGHT
BEGIN:STANDARD
TZOFFSETFROM:+0000
TZOFFSETTO:+0100
TZNAME:+01
DTSTART:20250406T020000
END:STANDARD
END:VTIMEZONE
BEGIN:VEVENT
DTSTART;VALUE=DATE:20250426
DTEND;VALUE=DATE:20250428
DTSTAMP:20260420T145702
CREATED:20241127T182525Z
LAST-MODIFIED:20241127T182943Z
UID:10000030-1745625600-1745798399@moov.ma
SUMMARY:Ultra Trail Amizmiz
DESCRIPTION:Notre aventure à Amizmiz a commencé il y a six ans. Après six éditions réussies\, nous sommes fiers et excités de vous accueillir pour une 7ème édition pleine de nouveautés et de surprises. Les paysages époustouflants du Haut Atlas émerveilleront vos yeux et mettront à l’épreuve vos capacités physiques. Rejoignez-nous pour une expérience inoubliable! \nTrail Maroc organise un week-end de fête autour du trail\, ouvert au plus grand nombre\, en favorisant la cohabitation des élites\, des amateurs et des marcheurs. \nÀ seulement 45 minutes de Marrakech\, vous serez totalement dépaysés dans une petite ville de 13000 habitant\, Amizmiz\, qui se situe sur le versant-nord du Haut Atlas. Sa vallée vous fera découvrir de somptueux villages fondus dans d’incroyables forêts d’olivier et de noyer\, entourés de la majestueuse muraille que constitue le massif du Toubkal. \nLes panoramas rencontrés pendant l’UTA n’ont pas d’équivalent. Vous vous retrouverez tantôt au-dessus d’une mer de nuages\, tantôt à contempler les sommets ensoleillés\, tantôt à fendre deux falaises où s’écoule une cascade avant de vous élancer sur un versant mêlant rochers\, forêt et vallée verdoyante. \nLes itinéraires 100% nature ont été pensés pour l’aventure et le bien-être des coureurs. Nous avons travaillé les parcours pour que tout le monde trouve son bonheur parmi les parcours proposés. Vous pouvez choisir entre les 10\, 22 ou 42 kilomètres dans des paysages idylliques aux terrains variés\, à la fois aériens et boisés\, roulants et escarpés. Les plus opiniâtres\, les athlètes au mental d’acier\, pourront se confronter aux tracés les plus exigeants en termes de distance et de dénivelé avec le 90km (4200 D+) ou le challenge 64km (2562 D+). \nIl faudra être présent les 26 et 27 Avril 2025\, de nombreuses surprises vous attendent pour que vous vous épanouissiez au cœur du Haut Atlas.
URL:https://moov.ma/course/ultra-trail-amizmiz/
LOCATION:Amizmiz\, Amizmiz\, Al Haouz\, Morocco
CATEGORIES:Trails
ATTACH;FMTTYPE=image/jpeg:https://moov.ma/wp-content/uploads/2024/11/Flyer_UTA_2025.jpg
ORGANIZER;CN="Trail Maroc":MAILTO:direction@trailmaroc.com
END:VEVENT
BEGIN:VEVENT
DTSTART;VALUE=DATE:20250427
DTEND;VALUE=DATE:20250428
DTSTAMP:20260420T145702
CREATED:20241127T185950Z
LAST-MODIFIED:20250330T223540Z
UID:10000032-1745712000-1745798399@moov.ma
SUMMARY:Marathon International de Rabat 2025
DESCRIPTION:Rejoignez l’élite et les passionnés de la course à pied pour la 8ᵉ édition du Marathon International de Rabat\, qui se tiendra le dimanche 27 avril 2025  dans la majestueuse capitale du Maroc. Cet événement emblématique attire chaque année des milliers de participants venus du monde entier pour découvrir un parcours alliant modernité et patrimoine historique. \nLe marathon propose plusieurs distances adaptées à tous les niveaux : \n\nMarathon (42\,195 km)\nSemi-marathon (21\,1 km)\nCourse de 10 km\n\nLe parcours traverse les principaux monuments et sites emblématiques de Rabat\, offrant une expérience sportive et culturelle unique. Que vous soyez coureur amateur ou professionnel\, cet événement est une occasion parfaite pour relever un défi sportif tout en explorant l’une des plus belles villes du Maroc. \nPour s’inscrire à la 8ème édition du Marathon International de Rabat : Cliquer ici
URL:https://moov.ma/course/marathon-international-de-rabat/
LOCATION:Rabat\, Rabat\, Rabat\, Morocco
CATEGORIES:Marathons,Semi-marathons
ATTACH;FMTTYPE=image/jpeg:https://moov.ma/wp-content/uploads/2024/11/JS6A0247.jpg
ORGANIZER;CN="F%C3%A9d%C3%A9ration Royale Marocaine d'Athl%C3%A9tisme":MAILTO:FRMA@FRMA.MA
END:VEVENT
BEGIN:VEVENT
DTSTART;VALUE=DATE:20250427
DTEND;VALUE=DATE:20250428
DTSTAMP:20260420T145702
CREATED:20250323T133552Z
LAST-MODIFIED:20250323T133725Z
UID:10000056-1745712000-1745798399@moov.ma
SUMMARY:Trail des Roses - Ait Yahya
DESCRIPTION:L’Association Aït Yahya d’Athlétisme organise la 1ère édition du Trail des Roses\, le dimanche 27 avril 2025\, à Aït Yahya\, dans la province de Kelâat M’Gouna. \nCet événement sportif et culturel s’inscrit dans le cadre du partenariat maroco-français entre la commune d’Aït Sedrate Sahl El Gharbia et la commune de Tournay-Leoûty en France. Le parcours traversera des paysages pittoresques entre les territoires d’Aït Sedrate Sahl El Gharbia et Kelâat M’Gouna\, avec départ et arrivée près du pont d’Almo Noudra. \nPlusieurs courses sont proposées selon les catégories d’âge : \n\n2 km (10 à 13 ans)\n4 km (14 à 16 ans)\n9 km (à partir de 17 ans)\n15 km (à partir de 19 ans)\n\nPrès de 500 coureurs sont attendus à partir de 8h00 pour une matinée sportive placée sous le signe du plaisir\, du partage et de la découverte de la beauté naturelle et culturelle d’Aït Yahya. \nRejoignez-nous pour vivre une expérience unique en pleine nature au cœur de la vallée des Roses ! 🌹
URL:https://moov.ma/course/trail-des-roses-ait-yahya/
LOCATION:Ait Yahya\, Ait Yahya\, Kelâat M'Gouna\, Morocco
CATEGORIES:Trails
ATTACH;FMTTYPE=image/jpeg:https://moov.ma/wp-content/uploads/2025/03/roses.jpeg
END:VEVENT
END:VCALENDAR