BEGIN:VCALENDAR
VERSION:2.0
PRODID:-//MOOV.MA - ECPv6.10.1.1//NONSGML v1.0//EN
CALSCALE:GREGORIAN
METHOD:PUBLISH
X-WR-CALNAME:MOOV.MA
X-ORIGINAL-URL:https://moov.ma
X-WR-CALDESC:Évènements pour MOOV.MA
REFRESH-INTERVAL;VALUE=DURATION:PT1H
X-Robots-Tag:noindex
X-PUBLISHED-TTL:PT1H
BEGIN:VTIMEZONE
TZID:Africa/Casablanca
BEGIN:DAYLIGHT
TZOFFSETFROM:+0100
TZOFFSETTO:+0000
TZNAME:+00
DTSTART:20250223T020000
END:DAYLIGHT
BEGIN:STANDARD
TZOFFSETFROM:+0000
TZOFFSETTO:+0100
TZNAME:+01
DTSTART:20250406T020000
END:STANDARD
END:VTIMEZONE
BEGIN:VEVENT
DTSTART;VALUE=DATE:20250613
DTEND;VALUE=DATE:20250616
DTSTAMP:20260420T090319
CREATED:20250611T210740Z
LAST-MODIFIED:20250611T211138Z
UID:10000057-1749772800-1750031999@moov.ma
SUMMARY:Wawgant Toubkal Trail – Imlil 2025
DESCRIPTION:Plongez au cœur du Haut‑Atlas marocain avec le Wawgant Toubkal Trail\, organisé à Imlil (province d’Al Haouz\, Marrakech-Safi). Ce rendez-vous sportif\, intitulé « The Beauty of Morocco »\, se tiendra du 13 au 15 juin 2025. \nTrois formats accessibles à tous sont proposés : \n\n10 km – 550 m D+\n21 km – 1 100 m D+\n40 km – 2 030 m D+\n\nLes parcours traversent forêts\, cascades\, ruisseaux et vergers de noyers et pommiers. L’événement met en valeur la culture berbère locale\, au profit de la coopérative féminine d’Imlil\, soutenant l’artisanat et l’agriculture locales. \nPourquoi participer ?\n\nTrois formats adaptés à tous les niveaux.\nCadre naturel exceptionnel : le Toubkal veille sur les coureurs.\nEngagement local : soutenez la coopérative de femmes et l’économie berbère d’Imlil\nImmersion culturelle\, ruisseaux\, vergers et villages traditionnels en toile de fond.\n\nÀ savoir\n\nAltitude de départ : environ 1 740 m à Imlil. Attention aux conditions de montagne (frais\, vent).\nAmbiance solidaire et respectueuse : ravitaillements locaux\, soutien médical selon réglementations Finishers.\nIdéal pour coureurs recherchant une expérience authentique entre effort physique et découverte culturelle.\n\nContact\n📧 wawgant.trail@gmail.com\n📞 +212 691 93 00 90
URL:https://moov.ma/course/wawgant-toubkal-trail-imlil-2025/
LOCATION:Imlil\, Imlil\, Morocco
CATEGORIES:Trails
ATTACH;FMTTYPE=image/jpeg:https://moov.ma/wp-content/uploads/2025/06/wawgant.jpg
END:VEVENT
BEGIN:VEVENT
DTSTART;TZID=Africa/Casablanca:20250614T090000
DTEND;TZID=Africa/Casablanca:20250614T090000
DTSTAMP:20260420T090319
CREATED:20250611T211922Z
LAST-MODIFIED:20250611T212255Z
UID:10000058-1749891600-1749891600@moov.ma
SUMMARY:15 km de Moulay Abdellah – El Jadida
DESCRIPTION:La course des 15 km de Moulay Abdellah revient pour sa deuxième édition avec une ambiance conviviale\, un parcours certifié\, et un objectif clair : faire rayonner le sport dans la région d’El Jadida. Organisée par l’Association Marathon Moulay Abdellah\, cette épreuve allie effort sportif\, ouverture à la jeunesse et mise en valeur du patrimoine local. \nLe départ sera donné au cœur de la ville d’El Jadida\, sur le Boulevard Mohamed V\, pour un tracé de 15 kilomètres se dirigeant vers Moulay Abdellah\, commune rurale connue pour son Moussem et son attachement aux traditions marocaines. Le parcours combine sections urbaines et passages semi-ruraux\, offrant aux participants un environnement varié\, plat et propice à la performance. \nL’événement est labellisé par World Athletics\, garantissant un tracé mesuré selon les normes internationales\, une sécurité optimale\, et une organisation professionnelle. Il s’adresse aussi bien aux coureurs élites qu’aux amateurs souhaitant relever un défi personnel dans une ambiance chaleureuse. \nAu programme : ravitaillements réguliers\, animation musicale\, village course\, remise des médailles\, et présence d’athlètes marocains de renom. Une occasion unique de participer à une course reconnue\, dans une région en pleine dynamique sportive. \nParcours\n \n\nPoints forts\n\nDistance idéale (15 km)\, parfaite pour se tester ou se préparer à un semi-marathon.\nParcours urbain et régional\, traversant El Jadida et Moulay Abdellah pour une immersion locale.\nLabel World Athletics\, garantissant un parcours reconnu et des standards professionnels.\nAccessibilité et convivialité\, ouvert à tous\, coureurs débutants ou confirmés.\n\nInformations pratiques\n\nRetrait des dossards : au point de départ (BD Mohamed V)\, avant la course.\nPoint d’arrivée : Mahrak Tbourida à Moulay Abdellah.\nRavitaillements : prévus le long du parcours et à l’arrivée.\nContact :✉️ contact@moulayabdellah.org📞 +212 (0) 669 212 111\n\nInscriptions sur : ce lien
URL:https://moov.ma/course/15-km-de-moulay-abdellah-el-jadida/
LOCATION:El Jadida\, El Jadida\, El Jadida\, Morocco
CATEGORIES:Courses 10km
ATTACH;FMTTYPE=image/jpeg:https://moov.ma/wp-content/uploads/2025/06/15km-ma.jpg
ORGANIZER;CN="Association Marathon Moulay Abdellah":MAILTO:Contact@moulayabdellah.org
END:VEVENT
END:VCALENDAR