BEGIN:VCALENDAR
VERSION:2.0
PRODID:-//MOOV.MA - ECPv6.10.1.1//NONSGML v1.0//EN
CALSCALE:GREGORIAN
METHOD:PUBLISH
X-WR-CALNAME:MOOV.MA
X-ORIGINAL-URL:https://moov.ma
X-WR-CALDESC:Évènements pour MOOV.MA
REFRESH-INTERVAL;VALUE=DURATION:PT1H
X-Robots-Tag:noindex
X-PUBLISHED-TTL:PT1H
BEGIN:VTIMEZONE
TZID:Africa/Casablanca
BEGIN:DAYLIGHT
TZOFFSETFROM:+0100
TZOFFSETTO:+0000
TZNAME:+00
DTSTART:20250223T020000
END:DAYLIGHT
BEGIN:STANDARD
TZOFFSETFROM:+0000
TZOFFSETTO:+0100
TZNAME:+01
DTSTART:20250406T020000
END:STANDARD
END:VTIMEZONE
BEGIN:VEVENT
DTSTART;VALUE=DATE:20251018
DTEND;VALUE=DATE:20251025
DTSTAMP:20260420T062131
CREATED:20250921T205349Z
LAST-MODIFIED:20250921T205349Z
UID:10000079-1760745600-1761350399@moov.ma
SUMMARY:Trail Ait Ben Haddou - 8e édition
DESCRIPTION:La 8ᵉ édition du Morocco Trail revient en octobre 2025 dans le décor exceptionnel du Ksar Aït Ben Haddou\, classé au patrimoine mondial de l’UNESCO. \n📅 Programme\n\n09 octobre 2025 → Conférence de presse\n13 octobre 2025 (11h00) → Ouverture du village du trail\n17 octobre 2025\n\n18h00 : Accueil des participants & retrait des dossards\n20h00 : Briefing\n20h30 : Pasta Party\n\n\n18 octobre 2025\n\n08h00 : Animation & échauffement\n08h45 : Départ du 50 km (devant le Ksar)\n17h00 : Arrivée & fin de la course\n19h30 : Dîner folklorique\n\n\n19 octobre 2025\n\n08h00 : Animation & échauffement\n08h45 : Départs 30 km et 10 km\n15h30 : Arrivée & fin des courses\n16h30 : Remise des prix (hommage aux personnalités sportives locales & nationales)\n20h00 : Dîner folklorique\n23h00 : Clôture de l’événement\n\n\n\n🏃‍♂️ Distances proposées\n\n50 km Trail\n30 km Trail\n10 km Trail\n\n🌍 Lieu\n📍 Ksar Aït Ben Haddou – Ouarzazate\, Maroc \n🎯 Esprit de l’événement\n\nCourse au cœur des paysages sahariens et du patrimoine marocain\nRencontre entre sportifs locaux\, nationaux et internationaux\nAmbiance conviviale\, festive et culturelle\n\nℹ️ Infos & inscriptions\n\nSite officiel : moroccotrail.com\n📧 contact@moroccotrail.com
URL:https://moov.ma/course/trail-ait-ben-haddou-8e-edition/
LOCATION:Ait Ben Haddou\, Ait Ben Haddou\, Ouarzazate\, Morocco
CATEGORIES:Trails
ATTACH;FMTTYPE=image/jpeg:https://moov.ma/wp-content/uploads/2025/09/tabh.jpg
END:VEVENT
END:VCALENDAR