BEGIN:VCALENDAR
VERSION:2.0
PRODID:-//MOOV.MA - ECPv6.10.1.1//NONSGML v1.0//EN
CALSCALE:GREGORIAN
METHOD:PUBLISH
X-WR-CALNAME:MOOV.MA
X-ORIGINAL-URL:https://moov.ma
X-WR-CALDESC:Évènements pour MOOV.MA
REFRESH-INTERVAL;VALUE=DURATION:PT1H
X-Robots-Tag:noindex
X-PUBLISHED-TTL:PT1H
BEGIN:VTIMEZONE
TZID:Africa/Casablanca
BEGIN:DAYLIGHT
TZOFFSETFROM:+0100
TZOFFSETTO:+0000
TZNAME:+00
DTSTART:20250223T020000
END:DAYLIGHT
BEGIN:STANDARD
TZOFFSETFROM:+0000
TZOFFSETTO:+0100
TZNAME:+01
DTSTART:20250406T020000
END:STANDARD
END:VTIMEZONE
BEGIN:VEVENT
DTSTART;VALUE=DATE:20251025
DTEND;VALUE=DATE:20251026
DTSTAMP:20260419T214515
CREATED:20250921T211424Z
LAST-MODIFIED:20250921T211424Z
UID:10000081-1761350400-1761436799@moov.ma
SUMMARY:IRONMAN 70.3 Agadir – Fun Run
DESCRIPTION:Dans le cadre de l’IRONMAN 70.3 Agadir\, la Fun Run est une course caritative de 5 km ouverte à toutes et à tous dès 15 ans. Plus qu’une simple course\, c’est un moment festif et solidaire placé sous le signe d’Octobre Rose\, pour soutenir la lutte contre le cancer du sein. \nVenez courir en famille\, entre amis ou collègues dans une ambiance conviviale et colorée : les déguisements sont même vivement encouragés pour ajouter une touche de fun à l’événement. \n🎽 Ce qui est inclus avec l’inscription\n\nT-shirt officiel de l’événement\nDossard personnalisé\nMédaille de finisher\nRafraîchissements à l’arrivée\n\n💵 Tarif : 16\,35 €📞 Infos & inscription : ironman.com/races/im703-agadir/fun-run \nUn rendez-vous incontournable pour bouger\, s’amuser et soutenir une grande cause dans une atmosphère festive au cœur d’Agadir.
URL:https://moov.ma/course/ironman-70-3-agadir-fun-run/
LOCATION:Agadir\, Agadir\, Agadir\, Morocco
CATEGORIES:Courses 10km
ATTACH;FMTTYPE=image/webp:https://moov.ma/wp-content/uploads/2025/09/fun.webp
END:VEVENT
END:VCALENDAR