BEGIN:VCALENDAR
VERSION:2.0
PRODID:-//MOOV.MA - ECPv6.10.1.1//NONSGML v1.0//EN
CALSCALE:GREGORIAN
METHOD:PUBLISH
X-WR-CALNAME:MOOV.MA
X-ORIGINAL-URL:https://moov.ma
X-WR-CALDESC:Évènements pour MOOV.MA
REFRESH-INTERVAL;VALUE=DURATION:PT1H
X-Robots-Tag:noindex
X-PUBLISHED-TTL:PT1H
BEGIN:VTIMEZONE
TZID:Africa/Casablanca
BEGIN:DAYLIGHT
TZOFFSETFROM:+0100
TZOFFSETTO:+0000
TZNAME:+00
DTSTART:20240310T020000
END:DAYLIGHT
BEGIN:STANDARD
TZOFFSETFROM:+0000
TZOFFSETTO:+0100
TZNAME:+01
DTSTART:20240414T020000
END:STANDARD
END:VTIMEZONE
BEGIN:VEVENT
DTSTART;TZID=Africa/Casablanca:20241215T080000
DTEND;TZID=Africa/Casablanca:20241215T150000
DTSTAMP:20260419T191130
CREATED:20241124T195815Z
LAST-MODIFIED:20241125T092204Z
UID:10000027-1734249600-1734274800@moov.ma
SUMMARY:ADRAR MTB ECO TRAIL
DESCRIPTION:ADRAR MTB organise la 2eme édition de l’ ECO TRAIL 2024 dans le site des rochers peints dans la région de Tafraoute le 15 Décembre 2024 à partir de 09h pour disputer deux chalenge de 25 et 50 KM. \n05 Sites Touristiques\n04 Villages\nPiste\, Hors piste et Sentiers\nMontées et descentes \nProgramme\n8H00 – 9H00 : Inscription\, retrait des dossards et plaques de trail\n8H00 – 9H00 : Accueil des participants / Petit déjeuner\n8H30 : Briefing (consignes de sécurité\, règles à respecter\, Conseils\, infos.)\n10H00 : Départ de la course\n12H00 – 13H00 : Première arrivées estimées\n14H00 – 15H00 : Cérémonie des officielle/Remise des trophées et prix\nShow time avec la démonstration de Aurélien FONTENOY
URL:https://moov.ma/course/adrar-mtb-eco-trail/
LOCATION:Tafraout\, Tafraoute\, Tafraoute\, Morocco
CATEGORIES:Trails
ATTACH;FMTTYPE=image/jpeg:https://moov.ma/wp-content/uploads/2024/11/mtb.jpg
ORGANIZER;CN="ASC ADRAR MTB":MAILTO:adrarmtb.morocco@gmail.com
END:VEVENT
END:VCALENDAR