BEGIN:VCALENDAR
VERSION:2.0
PRODID:-//MOOV.MA - ECPv6.10.1.1//NONSGML v1.0//EN
CALSCALE:GREGORIAN
METHOD:PUBLISH
X-ORIGINAL-URL:https://moov.ma
X-WR-CALDESC:Évènements pour MOOV.MA
REFRESH-INTERVAL;VALUE=DURATION:PT1H
X-Robots-Tag:noindex
X-PUBLISHED-TTL:PT1H
BEGIN:VTIMEZONE
TZID:Africa/Casablanca
BEGIN:DAYLIGHT
TZOFFSETFROM:+0100
TZOFFSETTO:+0000
TZNAME:+00
DTSTART:20250223T020000
END:DAYLIGHT
BEGIN:STANDARD
TZOFFSETFROM:+0000
TZOFFSETTO:+0100
TZNAME:+01
DTSTART:20250406T020000
END:STANDARD
END:VTIMEZONE
BEGIN:VEVENT
DTSTART;VALUE=DATE:20250427
DTEND;VALUE=DATE:20250428
DTSTAMP:20260420T153558
CREATED:20250323T133552Z
LAST-MODIFIED:20250323T133725Z
UID:10000056-1745712000-1745798399@moov.ma
SUMMARY:Trail des Roses - Ait Yahya
DESCRIPTION:L’Association Aït Yahya d’Athlétisme organise la 1ère édition du Trail des Roses\, le dimanche 27 avril 2025\, à Aït Yahya\, dans la province de Kelâat M’Gouna. \nCet événement sportif et culturel s’inscrit dans le cadre du partenariat maroco-français entre la commune d’Aït Sedrate Sahl El Gharbia et la commune de Tournay-Leoûty en France. Le parcours traversera des paysages pittoresques entre les territoires d’Aït Sedrate Sahl El Gharbia et Kelâat M’Gouna\, avec départ et arrivée près du pont d’Almo Noudra. \nPlusieurs courses sont proposées selon les catégories d’âge : \n\n2 km (10 à 13 ans)\n4 km (14 à 16 ans)\n9 km (à partir de 17 ans)\n15 km (à partir de 19 ans)\n\nPrès de 500 coureurs sont attendus à partir de 8h00 pour une matinée sportive placée sous le signe du plaisir\, du partage et de la découverte de la beauté naturelle et culturelle d’Aït Yahya. \nRejoignez-nous pour vivre une expérience unique en pleine nature au cœur de la vallée des Roses ! 🌹
URL:https://moov.ma/course/trail-des-roses-ait-yahya/
LOCATION:Ait Yahya\, Ait Yahya\, Kelâat M'Gouna\, Morocco
CATEGORIES:Trails
ATTACH;FMTTYPE=image/jpeg:https://moov.ma/wp-content/uploads/2025/03/roses.jpeg
END:VEVENT
END:VCALENDAR