BEGIN:VCALENDAR
VERSION:2.0
PRODID:-//MOOV.MA - ECPv6.10.1.1//NONSGML v1.0//EN
CALSCALE:GREGORIAN
METHOD:PUBLISH
X-ORIGINAL-URL:https://moov.ma
X-WR-CALDESC:Évènements pour MOOV.MA
REFRESH-INTERVAL;VALUE=DURATION:PT1H
X-Robots-Tag:noindex
X-PUBLISHED-TTL:PT1H
BEGIN:VTIMEZONE
TZID:Africa/Casablanca
BEGIN:DAYLIGHT
TZOFFSETFROM:+0100
TZOFFSETTO:+0000
TZNAME:+00
DTSTART:20240310T020000
END:DAYLIGHT
BEGIN:STANDARD
TZOFFSETFROM:+0000
TZOFFSETTO:+0100
TZNAME:+01
DTSTART:20240414T020000
END:STANDARD
END:VTIMEZONE
BEGIN:VEVENT
DTSTART;VALUE=DATE:20241215
DTEND;VALUE=DATE:20241216
DTSTAMP:20260419T172015
CREATED:20241205T211330Z
LAST-MODIFIED:20241205T211416Z
UID:10000033-1734220800-1734307199@moov.ma
SUMMARY:10KM LIBERTY RACE SETTAT
DESCRIPTION:Préparez-vous à enfiler vos chaussures de course et à fouler le bitume pour une course palpitante de 10 km ! Que vous soyez un coureur expérimenté ou que vous débutiez\, cet événement est parfait pour tout le monde. Relevez le défi et ressentez l’adrénaline en franchissant la ligne d’arrivée. Ne manquez pas cette occasion de vous dépasser et de passer un bon moment avec d’autres coureurs. Rejoignez-nous pour la 1ère édition de la « 10km Liberty Race ». Rendez-vous sur la ligne de départ !
URL:https://moov.ma/course/10km-liberty-race/
LOCATION:Liberty Gym\, X9WC+777\, Settat\, Morocco
CATEGORIES:Courses 10km
ATTACH;FMTTYPE=image/jpeg:https://moov.ma/wp-content/uploads/2024/12/settat.jpg
END:VEVENT
END:VCALENDAR