BEGIN:VCALENDAR
VERSION:2.0
PRODID:-//MOOV.MA - ECPv6.10.1.1//NONSGML v1.0//EN
CALSCALE:GREGORIAN
METHOD:PUBLISH
X-ORIGINAL-URL:https://moov.ma
X-WR-CALDESC:Évènements pour MOOV.MA
REFRESH-INTERVAL;VALUE=DURATION:PT1H
X-Robots-Tag:noindex
X-PUBLISHED-TTL:PT1H
BEGIN:VTIMEZONE
TZID:Africa/Casablanca
BEGIN:DAYLIGHT
TZOFFSETFROM:+0100
TZOFFSETTO:+0000
TZNAME:+00
DTSTART:20250223T020000
END:DAYLIGHT
BEGIN:STANDARD
TZOFFSETFROM:+0000
TZOFFSETTO:+0100
TZNAME:+01
DTSTART:20250406T020000
END:STANDARD
END:VTIMEZONE
BEGIN:VEVENT
DTSTART;VALUE=DATE:20250628
DTEND;VALUE=DATE:20250630
DTSTAMP:20260419T103227
CREATED:20250611T213618Z
LAST-MODIFIED:20250611T213618Z
UID:10000059-1751068800-1751241599@moov.ma
SUMMARY:Ultra Trail North Morocco - Fnideq
DESCRIPTION:Plongez dans l’aventure avec l’Ultra Trails North Morocco\, un rendez-vous international de trail organisé à Fnideq\, face à la Méditerranée\, entre mer et montagnes. L’événement se déroulera les 28 et 29 juin 2025\, réparti sur trois distances : \n\n42 km (28 juin) – trail marathon\n15 km (29 juin) – découverte\n\nRassemblement fort de coureurs nationaux et internationaux\, cet événement propose des parcours spectaculaires\, entre villages\, falaises\, forêts et littoral sauvage. Il offre une expérience riche en émotions avec une communauté engagée et un cadre naturel exceptionnel. \nPoints forts\n\nMultiple distances adaptées à tous les niveaux : de l’ultra à la course découverte.\nCadre exceptionnel : vue entre mer et montagnes\, passages dans des zones naturelles protégées.\nAmbiance internationale : participation de coureurs venus du Maroc et de l’étranger.\nSentiers variés et techniques : alternance forêt\, falaises et zones côtières.\n\nInformations pratiques\n\nProfil : Trail technique\, portions en altitude modérée\, portions côtières.\nRavitaillement : Stations prévues tout au long des parcours.\nSupport : Encadrement médical et sécurité\, service de chrono.\nCommunication : Infos régulièrement mises à jour via la page Facebook “Ultra Trails North Morocco”.\n\nInscription sur ce lien
URL:https://moov.ma/course/ultra-trail-north-morocco-fnideq/
LOCATION:Fnideq\, Foret de Fnideq\, Fnideq\, Morocco
CATEGORIES:Trails
ATTACH;FMTTYPE=image/jpeg:https://moov.ma/wp-content/uploads/2025/06/utnm.jpeg
END:VEVENT
END:VCALENDAR